BEGIN:VCALENDAR
PRODID:NingEventWidget-v1
VERSION:2.0
METHOD:PUBLISH
BEGIN:VTIMEZONE
TZID:Europe/Paris
X-LIC-LOCATION:Europe/Paris
BEGIN:DAYLIGHT
TZOFFSETFROM:+0100
TZOFFSETTO:+0200
TZNAME:CEST
DTSTART:19700329T020000
RRULE:FREQ=YEARLY;BYMONTH=3;BYDAY=-1SU
END:DAYLIGHT
BEGIN:STANDARD
TZOFFSETFROM:+0200
TZOFFSETTO:+0100
TZNAME:CET
DTSTART:19701025T030000
RRULE:FREQ=YEARLY;BYMONTH=10;BYDAY=-1SU
END:STANDARD
END:VTIMEZONE
BEGIN:VEVENT
UID:2485226:Event:2553049
DTSTAMP:20260421T152046Z
SUMMARY:SÃ©minaire de Pascal Bouchet : Le langage alchimique des oisea
 ux
DESCRIPTION:1er jour : Introduction Ã  l'Ã©sotÃ©risme alchimique.  (Le
  symbolisme du Grand oeuvre en alchimie intÃ©rieure). Ce cour est obli
 gatoire pour les dÃ©butants qui veulent suivre le deuxiÃ¨me jours sur 
 la langue des oiseaux. Prix pour la journÃ©e seule 100 euros Les deux 
 jours : 180 euros\n2Ã¨me jour : Le langage alchimique des oiseauxÂ  (I
 nitiation au langage symbolique des alchimistes) Prix pour la journÃ©e
  seule(uniquement pour les anciens Ã©lÃ¨ves) : 90 euros Prix pour le w
 eek-end (pour tous) 180 euros\nDescription du 1er jour :  Ce 1er modul
 e pose clairement les bases de la pratique en voie interne et Ã©claire
  dâ€™un jour nouveau, Ã  lâ€™aide des traditions initiatiques, le labo
 ratoire intÃ©rieur oÃ¹ lâ€™alchimiste, dÃ©muni de tous matÃ©riaux et d
 e laboratoire chimique va pouvoir Å“uvrer Ã  forger son Ã¢me de lumiÃ¨
 re dans le creuset de lâ€™existence terrestre. Seront abordÃ©s les pro
 tocoles du Grand Å’uvre en relation avec les traditions initiatiques. 
  Description du 2Ã¨me jour : Quel est ce mystÃ©rieux langage intuitif 
 de lâ€™Ã¢me avec lequel nous pouvons comprendre le langage de toutes l
 es crÃ©atures de la nature ? Nous allons, ensemble, aborder le sujet d
 e ce mystÃ©rieux langage symbolique vivant des Alchimistes, des InitiÃ
 ©s avec lequel les chamans pouvaient interprÃ©ter le livre de la natur
 e. Câ€™est ce langage que les ChrÃ©tiens nomment \"Verbe vivant\", \"l
 umiÃ¨re du monde\" ou \"parole prophÃ©tique\" et les Francs-MaÃ§ons, \
 "la parole perdue\". On la retrouve dans la cabale, reprÃ©sentÃ©e par 
 le cheval ailÃ© PÃ©gase qui pouvait porter les hÃ©ros mythiques qui av
 aient su le chevaucher sans tomber.  Quelle est donc cette mystÃ©rieus
 e nature animale reprÃ©sentÃ©e tantÃ´t par le fougueux cheval, tantÃ´t
  par les volatiles oiseaux pouvant nous porter jusquâ€™aux plus hautes
  connaissances initiatiques ?   Inscription prÃ©alable obligatoire aup
 rÃ¨s de Pascal Bouchet sur : Pascal.bouchet7@gmail.com ou au 06 68 77 
 57 10\n\nPour plus d'information, aller sur https://epanews.fr/events/
 s-minaire-de-pascal-bouchet-le-langage-alchimique-des-oiseaux
DTSTART;TZID=Europe/Paris:20160123T100000
DTEND;TZID=Europe/Paris:20160124T180000
CATEGORIES:13
LOCATION:Aix en Provence
WEBSITE:https://www.google.fr/maps/place/CO-NAISSANCE/@43.5708255,5.47
 25961,15z/data=!4m2!3m1!1s0x0:0xfa9d671b1a54d3df
URL:https://www.google.fr/maps/place/CO-NAISSANCE/@43.5708255,5.472596
 1,15z/data=!4m2!3m1!1s0x0:0xfa9d671b1a54d3df
CONTACT:06 68 77 57 10
ORGANIZER;CN="PASCAL BOUCHET":https://epanews.fr/profile/PASCALBOUCHET
ATTACH;FMTTYPE="image/jpeg":http://storage.ning.com/topology/rest/1.0/
 file/get/1663514110?profile=original
ATTENDEE;ROLE=REQ-PARTICIPANT;PARTSTAT=ACCEPTED;RSVP=TRUE;CN="PASCAL B
 OUCHET":https://epanews.fr/profile/PASCALBOUCHET
END:VEVENT
END:VCALENDAR
