BEGIN:VCALENDAR
PRODID:NingEventWidget-v1
VERSION:2.0
METHOD:PUBLISH
BEGIN:VTIMEZONE
TZID:Europe/Paris
X-LIC-LOCATION:Europe/Paris
BEGIN:DAYLIGHT
TZOFFSETFROM:+0100
TZOFFSETTO:+0200
TZNAME:CEST
DTSTART:19700329T020000
RRULE:FREQ=YEARLY;BYMONTH=3;BYDAY=-1SU
END:DAYLIGHT
BEGIN:STANDARD
TZOFFSETFROM:+0200
TZOFFSETTO:+0100
TZNAME:CET
DTSTART:19701025T030000
RRULE:FREQ=YEARLY;BYMONTH=10;BYDAY=-1SU
END:STANDARD
END:VTIMEZONE
BEGIN:VEVENT
UID:2485226:Event:2946915
DTSTAMP:20260424T184307Z
SUMMARY:Séminaire de L.M.E ou Libération de la mémoire émotionnell
 e
DESCRIPTION:Vous allez vivre l'expérience extraordinaire d'aller retr
 ouver ce petit enfant au fond de vous qui a été blessé pour l'aider
  a transformer sa mémoire émotionnelle et lui permettre de guérir (
 GAI-RIRE) et transformer sa vie! 330€/20H de cours avec contenu à e
 mporter.\n\nPour plus d'information, aller sur https://epanews.fr/even
 ts/s-minaire-de-l-m-e-ou-lib-ration-de-la-m-moire-motionnelle
DTSTART;TZID=Europe/Paris:20180511T130000
DTEND;TZID=Europe/Paris:20180513T160000
CATEGORIES:31
LOCATION:leguevin
WEBSITE:
URL:
CONTACT:0672905614
ORGANIZER;CN="le pape":https://epanews.fr/profile/lepape
ATTACH;FMTTYPE="image/jpeg":http://storage.ning.com/topology/rest/1.0/
 file/get/1663734113?profile=original
ATTENDEE;ROLE=REQ-PARTICIPANT;PARTSTAT=ACCEPTED;RSVP=TRUE;CN="le pape"
 :https://epanews.fr/profile/lepape
END:VEVENT
END:VCALENDAR
