BEGIN:VCALENDAR
PRODID:NingEventWidget-v1
VERSION:2.0
METHOD:PUBLISH
BEGIN:VTIMEZONE
TZID:Europe/Paris
X-LIC-LOCATION:Europe/Paris
BEGIN:DAYLIGHT
TZOFFSETFROM:+0100
TZOFFSETTO:+0200
TZNAME:CEST
DTSTART:19700329T020000
RRULE:FREQ=YEARLY;BYMONTH=3;BYDAY=-1SU
END:DAYLIGHT
BEGIN:STANDARD
TZOFFSETFROM:+0200
TZOFFSETTO:+0100
TZNAME:CET
DTSTART:19701025T030000
RRULE:FREQ=YEARLY;BYMONTH=10;BYDAY=-1SU
END:STANDARD
END:VTIMEZONE
BEGIN:VEVENT
UID:2485226:Event:1938168
DTSTAMP:20260423T184213Z
SUMMARY:Séminaire d'initiation chamanique amérindien et mongole
DESCRIPTION:La nature était au centre des préoccupations des peuplad
 es d'autrefois. Pour eux chaque être vivant et chaque chose (pierres
 , arbres, fleurs...) possède une âme.Chaque action des hommes s'insc
 rivait dans un échange avec la nature.\nLe Chaman est la passerelle, 
 l'intermédiaire entre le monde des hommes et des esprits. Membre de l
 a communauté humaine, il dispose d'une connaissance de l'invisible q
 ui lui permet de voir des choses inaccessibles aux autres et il se fa
 it le canal avec les esprits.\nIl est tout à la foi médium, guériss
 eur et homme médecine ( par la connaissance de l'esprit des plantes e
 t de leurs effets bénéfiques).\nDans ce séminaire, vous allez déc
 ouvrir votre animal de pouvoir;Comment travailler avec les esprits de 
 la nature et d'ailleurs et comment ils peuvent vous aider; Renouer le
  contact avec des parts ignorées de soi;Apprendre à voir à sentir c
 e qu'il y a autour de vous; Voyager avec le Tambour et les chants.\nO
 ù ? Le séminaire aura lieu au gîte \"les Deux Roues\" Rue du Meuni
 er 2a - 5537 Maredsous (Maredret)\nQuand ? il commencera le vendredi 2
 1 novembre à 16h et se terminera le dimanche 23 novembre à 14h (deux
  jours)Prix: 360 euros\nHébergement: Dortoir: 60 euros/jour (pension 
 complète)\nChambre à deux lits: 68 euros/jour (pension complète)Att
 ention, réserver à l'avance car peu de places disponibles...________
 ___________________\nPour s'inscrire: envoyez votre demande et vos coo
 rdonnées à l'adresse mail: laplumedephoenix@gmail.com.\nToutes les m
 odalités pratiques vous seront envoyées deux mois avant le séminair
 e.\n\n\nPour plus d'information, aller sur https://epanews.fr/events/s
 -minaire-d-initiation-chamanique-am-rindien-et-mongole
DTSTART;TZID=Europe/Paris:20141121T160000
DTEND;TZID=Europe/Paris:20141123T140000
CATEGORIES:tous
LOCATION:Maredsous (Maredret) Belgique
WEBSITE:http://Facebook \"la Plume de Phoenix\"
URL:http://Facebook \"la Plume de Phoenix\"
CONTACT:00322343.72.42
ORGANIZER;CN=Plume:https://epanews.fr/profile/Plume365
ATTACH;FMTTYPE="image/jpeg":http://storage.ning.com/topology/rest/1.0/
 file/get/1663152573?profile=original
ATTENDEE;ROLE=REQ-PARTICIPANT;PARTSTAT=ACCEPTED;RSVP=TRUE;CN=Plume:htt
 ps://epanews.fr/profile/Plume365
END:VEVENT
END:VCALENDAR
