BEGIN:VCALENDAR
PRODID:NingEventWidget-v1
VERSION:2.0
METHOD:PUBLISH
BEGIN:VTIMEZONE
TZID:Europe/Paris
X-LIC-LOCATION:Europe/Paris
BEGIN:DAYLIGHT
TZOFFSETFROM:+0100
TZOFFSETTO:+0200
TZNAME:CEST
DTSTART:19700329T020000
RRULE:FREQ=YEARLY;BYMONTH=3;BYDAY=-1SU
END:DAYLIGHT
BEGIN:STANDARD
TZOFFSETFROM:+0200
TZOFFSETTO:+0100
TZNAME:CET
DTSTART:19701025T030000
RRULE:FREQ=YEARLY;BYMONTH=10;BYDAY=-1SU
END:STANDARD
END:VTIMEZONE
BEGIN:VEVENT
UID:2485226:Event:2927969
DTSTAMP:20260421T113853Z
SUMMARY:Séminaire découverte sur l'enseignement de G.Grabovoï
DESCRIPTION:SALUT GLOBAL\nRégénération - Conscience Quantique \n 
 Nouveau regard pour créer votre Réalité Harmonieuse \nVoici les di
 fférents points abordés pendant le Séminaire Découverte :\n\n\nRap
 pel sur les découvertes essentielles de la mécanique quantique et po
 urquoi certaines technologies ne fonctionnent pas toujours...\nFaire l
 e point : Nouveau regard pour un nouveau paradigme !\nPrésentation de
  Grigori Grabovoï et de son parcours en tant que scientifique, clairv
 oyant, guérisseur et Maître de la Réalité\nLes Principes Fondament
 aux de sa science\nStructure et fonctionnement de l’Âme, l’Esprit
  et la Conscience\nMental, raison, présence\nLa source informationnel
 le de la maladie et comment elle prend forme\nComment restaurer l’or
 ganisme humain à la Norme du Créateur à l’aide des combinaisons c
 hiffrées de Grabovoï\nQu’est-ce que la Conscience Collective et co
 mment s’en affranchir ?\nTechnologies bio informatives (de conscienc
 e)\nDécouvrez, en toute conscience, comment créer votre propre réal
 ité\nLa science et l’application des séquences chiffrées\nApplica
 tion des Exercices d’expansion de Conscience des 31 jours du mois\nA
 pplication des différentes technologies enseignées par G. Grabovoï 
 :\n\no Technologie de purification de l’eau, nettoyage d’une maiso
 n, d’une pièce ou d’un lieu...\no Technologies de rajeunissement 
 physique...\no Technologies de guérison et de régénération des cel
 lules et organes du corps, etc.\n\nContrôle des événements et réso
 lution de problèmes\nQu’est-ce que l’Immortalité et comment l’
 atteindre ?\n\n...Ainsi que d’autres perles d’informations et exer
 cices pratiques selon la dynamique du groupe.\nAnimé par Brigitte Aho
 ia enseignante certifiée\n Participation: 280 euros repas libre avec
  le groupe sur place ou pas\n\n\nPour plus d'information, aller sur ht
 tps://epanews.fr/events/s-minaire-d-couverte-sur-l-enseignement-de-g-g
 rabovo-2
DTSTART;TZID=Europe/Paris:20180406T150000
DTEND;TZID=Europe/Paris:20180408T180000
CATEGORIES:74
LOCATION:Thonon Les Bains
WEBSITE:
URL:
CONTACT:http://grabovoi.fr
ORGANIZER:Association Evolution888
ATTACH;FMTTYPE="image/jpeg":http://storage.ning.com/topology/rest/1.0/
 file/get/1663718153?profile=original
ATTENDEE;ROLE=REQ-PARTICIPANT;PARTSTAT=ACCEPTED;RSVP=TRUE;CN="Brigitte
  Ahoia":https://epanews.fr/profile/BrigitteAhoia
END:VEVENT
END:VCALENDAR
