BEGIN:VCALENDAR
PRODID:NingEventWidget-v1
VERSION:2.0
METHOD:PUBLISH
BEGIN:VTIMEZONE
TZID:Europe/Paris
X-LIC-LOCATION:Europe/Paris
BEGIN:DAYLIGHT
TZOFFSETFROM:+0100
TZOFFSETTO:+0200
TZNAME:CEST
DTSTART:19700329T020000
RRULE:FREQ=YEARLY;BYMONTH=3;BYDAY=-1SU
END:DAYLIGHT
BEGIN:STANDARD
TZOFFSETFROM:+0200
TZOFFSETTO:+0100
TZNAME:CET
DTSTART:19701025T030000
RRULE:FREQ=YEARLY;BYMONTH=10;BYDAY=-1SU
END:STANDARD
END:VTIMEZONE
BEGIN:VEVENT
UID:2485226:Event:2563301
DTSTAMP:20260425T014044Z
SUMMARY:sÃ©minaire arbre de vie, le week end du 6 et 7 fÃ©vrier 2016
DESCRIPTION:L'ARBRE DE VIE Â  Un puissant outil dâ€™Ã©veilÂ \n10 sÃ©mi
 naires sont proposÃ©s sur lâ€™annÃ©e, un week-end par mois. Chaque mod
 ule peut Ãªtre suivi indÃ©pendamment des autres.Â \nÂ Â Â Â Â Â Â Â  P
 rochain SÃ©minaire de lâ€™Arbre de Vie : Â Â Â \nMALKUTH Â  Â«Â La Mat
 Ã©ria primaÂ Â» prÃ©vu le 6 et 7 FÃ©vrier 2016\nAssociation Ãªtre SoiÂ
   2254 Bd Paul ValÃ©ry 34070 Montpellier (bus 6 - de la gare arrÃªtÂ :
  estanove)\nÂ«Â Visite l'intÃ©rieur de la terre et en rectifiant tu tr
 ouveras la pierre cachÃ©eâ€¦Â Â»Â  Lâ€™entrÃ©e dans la matÃ©ria prima,
  sous entend une re-naissance Ã  soi, le passage dâ€™un Ã©tat Ã  un au
 tre, Â dont le but est la transmutation de notre corps de souffrance. 
 Comme lâ€™enfant dans la matrice, cette gestation a lieu dans un espac
 e clos, une mandorle dans laquelle va se libÃ©rer la puissance qui est
  en nous. Â Ce sÃ©minaire MALKUTH nous invite Ã  gravir la premiÃ¨re m
 arche vers la connaissance de notre Terre IntÃ©rieure et exploiter les
  10 trÃ©sors dont elle est pourvue, cachÃ©s dans le sanctuaire du cÅ“u
 r.\nContenuÂ : Grands Mandalas de Transmutation - Aspect thÃ©orique -Â
   Visualisation crÃ©atrice - En trinÃ´meÂ : Un exercice vous sera prop
 osÃ© afin de dÃ©programmer les inscriptions nÃ©gatives du subconscient
 .\nÂ Â Â Â Â Â Â  \nÂ Â Â Â Â Â Â Â Â Â Â Â  Â  Â  Â  Â  Â  Â  Â  Â  Â
   Â  Â  Â  Â  Â  Â  Â  Â  Â  Â  Â  Â  Â  Â  Â  Â  Â  Â  Â  Â  Â  Â  Â 
  Â Â Â Â Â Â Â Â Â Â Â Â Â Â Â Â Â Â Â Â Â  Â  Â  Â  Â  Â  Â  Â  Â  Â 
  Â  Â  Â  Â  Â  Â  Â  Â  Â  Â  Â  Â  Â  Â  Â Â Â Â Â Â Â Â Â Â Â Â Â Â
  Â Â Â Â Â Â  ConfÃ©rence Â«Â  les fondements de lâ€™ÃªtreÂ Â»Â \nÂ Â 
 Â  VendrediÂ 29 Janvier Ã  20HÂ Â Â Â  Â  Â  Â  Â  Â \nÂ Salle Cobra -
  183,Â rue de l'industrie - 34070Â Montpellier\nPour tout renseignemen
 t : 06 17 11 91 40\n\nPour plus d'information, aller sur https://epane
 ws.fr/events/s-minaire-arbre-de-vie-le-week-end-du-6-et-7-f-vrier-2016
DTSTART;TZID=Europe/Paris:20160206T000000
DTEND;TZID=Europe/Paris:20160207T235900
CATEGORIES:34
LOCATION:montpellier
WEBSITE:http://Association etre soi
URL:http://Association etre soi
CONTACT:0617119140
ORGANIZER;CN=Catherine:https://epanews.fr/profile/Catherine453
ATTACH;FMTTYPE="image/jpeg":http://storage.ning.com/topology/rest/1.0/
 file/get/1663519172?profile=original
ATTENDEE;ROLE=REQ-PARTICIPANT;PARTSTAT=ACCEPTED;RSVP=TRUE;CN=Catherine
 :https://epanews.fr/profile/Catherine453
END:VEVENT
END:VCALENDAR
