BEGIN:VCALENDAR
PRODID:NingEventWidget-v1
VERSION:2.0
METHOD:PUBLISH
BEGIN:VTIMEZONE
TZID:Europe/Paris
X-LIC-LOCATION:Europe/Paris
BEGIN:DAYLIGHT
TZOFFSETFROM:+0100
TZOFFSETTO:+0200
TZNAME:CEST
DTSTART:19700329T020000
RRULE:FREQ=YEARLY;BYMONTH=3;BYDAY=-1SU
END:DAYLIGHT
BEGIN:STANDARD
TZOFFSETFROM:+0200
TZOFFSETTO:+0100
TZNAME:CET
DTSTART:19701025T030000
RRULE:FREQ=YEARLY;BYMONTH=10;BYDAY=-1SU
END:STANDARD
END:VTIMEZONE
BEGIN:VEVENT
UID:2485226:Event:3028136
DTSTAMP:20260422T160042Z
SUMMARY:SÃ©jour / Stage de Ressourcement et de Cheminement
DESCRIPTION:SÃ©jour de Ressourcement et de CheminementÂ Voir site\nDan
 s une nature environnante reine :Â cascade, sources, falaises, s'impos
 ent par leur beautÃ© dans cette magnifique reculÃ©e du Jura.\n\n\nDU D
 IMANCHE 18 AU JEUDI 22 AOÃ›T 2019\n\n\n\nVous avez envie dâ€™uneÂ paus
 e, de vousÂ retrouver, dâ€™avancer, de faire unÂ point, de vivre uneÂ 
 transition, de prÃ©parer une nouvelle pÃ©riode personnelle et professi
 onnelle. Vous avez besoin d'un moment d'accompagnement, de bien-Ãªtre,
  de retour aux sourcesâ€¯; toutÂ en dÃ©licatesse et dans leÂ respectÂ 
 de la justesse de vos ressentis.Â \nCe sÃ©jour de ressourcement est un
 e vÃ©ritable opportunitÃ© dâ€™Ã©coute de soiÂ et deÂ thÃ©rapie brÃ¨ve 
 et naturelle.Â \nRe-Sources Jura vous propose unÂ espace-tempsÂ privil
 Ã©giÃ©Â dans un site naturel qui suscite lâ€™Ã©merveillement.Â HÃ©berg
 Ã©(e) dans une chambre dâ€™hÃ´tes agrÃ©able, nourri(e) dâ€™une cuisine
  saine, bio et locale, vous vivez ceâ€¯stageÂ dans un petit groupe deÂ
  3 Ã Â 6 personnes.Â Â \nDans un contexte bienveillant etâ€¯accueillan
 t,Â vous prenez part Ã  des cercles dâ€™expression et de partage en gr
 oupe, des sÃ©ances individuelles de maÃ¯eusthÃ©sie, des temps pour soi
  et en groupe dans la nature.Â Â \nLesÂ cercles de partageÂ sont desâ€
 ¯ateliersÂ dâ€™Ã©couteÂ du vÃ©cu, des ressentis, des Ã©mergencesâ€¦ et
  sont un temps de prÃ©paration aux thÃ©rapies individuelles. Ce sont a
 ussi des moments dâ€™apprentissageÂ pour mieux comprendre nos Ã©motion
 s, et entendreÂ leur pertinence â€¯;Â tout en mettantÂ en Å“uvre desÂ 
 situations deÂ communicationÂ pour soi et avec autrui.Â \n\n\nTarifs\n
 \n\nStage + pension complÃ¨teÂ :Â 490 â‚¬ par personne\n\n\n\nLieu de 
 stage et HÃ©bergement\n\n\nGÃ®te du Relais\n14 rue de la Cuisance\n396
 00 LES PLANCHES PRES ARBOIS\n\n\n\n\n\nPour plus d'information, aller 
 sur https://epanews.fr/events/s-jour-stage-de-ressourcement-et-de-chem
 inement-1
DTSTART;TZID=Europe/Paris:20190818T160000
DTEND;TZID=Europe/Paris:20190822T000000
CATEGORIES:39
LOCATION:LES PLANCHES PRES ARBOIS
WEBSITE:https://www.google.com/maps/@46.8790457,5.8038553,17z
URL:https://www.google.com/maps/@46.8790457,5.8038553,17z
CONTACT:0632321080
ORGANIZER;CN="Re-sources Jura":https://epanews.fr/profile/ResourcesJur
 a
ATTACH;FMTTYPE="image/jpeg":https://storage.ning.com/topology/rest/1.0
 /file/get/2747004721?profile=original
ATTENDEE;ROLE=REQ-PARTICIPANT;PARTSTAT=ACCEPTED;RSVP=TRUE;CN="Re-sourc
 es Jura":https://epanews.fr/profile/ResourcesJura
END:VEVENT
END:VCALENDAR
