BEGIN:VCALENDAR
PRODID:NingEventWidget-v1
VERSION:2.0
METHOD:PUBLISH
BEGIN:VTIMEZONE
TZID:Europe/Paris
X-LIC-LOCATION:Europe/Paris
BEGIN:DAYLIGHT
TZOFFSETFROM:+0100
TZOFFSETTO:+0200
TZNAME:CEST
DTSTART:19700329T020000
RRULE:FREQ=YEARLY;BYMONTH=3;BYDAY=-1SU
END:DAYLIGHT
BEGIN:STANDARD
TZOFFSETFROM:+0200
TZOFFSETTO:+0100
TZNAME:CET
DTSTART:19701025T030000
RRULE:FREQ=YEARLY;BYMONTH=10;BYDAY=-1SU
END:STANDARD
END:VTIMEZONE
BEGIN:VEVENT
UID:2485226:Event:2587678
DTSTAMP:20260422T045440Z
SUMMARY:Séjour ressourcement Massif de la St Baume
DESCRIPTION:\nDu jeudi 5 Mai au dimanche 8 Mai 2016\navec\nAudrey Seim
 andi & Nadine-Sarah Aubert Penna\n \n     “ Du mouvement du Cor
 ps à l’écoute du Cœur” \nRespirer, méditer, se régénérer av
 ec le Qi Gong,                            
  les Huiles d’Onctions Sacrées et la Méditation,        
                           dans le Massif de l
 a St Baume.\n \n \nLieu du séjour :\nArminda Ferreira  Lieu dit : 
 Gîte de \" La Coutronne \"  13390 Auriol  \n04 42 62 57 12\nRenseign
 ements et Inscriptions : franckaubert53@yahoo.fr \n 06 19 15 16 70\
 n\nPour plus d'information, aller sur https://epanews.fr/events/s-jour
 -ressourcement-massif-de-la-st-baume
DTSTART;TZID=Europe/Paris:20160224T180000
DTEND;TZID=Europe/Paris:20160224T190000
CATEGORIES:83
LOCATION:Gîte de la Coutronne
WEBSITE:http://www.nadinepenna.com
URL:http://www.nadinepenna.com
CONTACT:0619151670
ORGANIZER:Nadine Sarah Aubert Penna et Audrey Seimandi
ATTACH;FMTTYPE="image/jpeg":http://storage.ning.com/topology/rest/1.0/
 file/get/1663530544?profile=original
ATTENDEE;ROLE=REQ-PARTICIPANT;PARTSTAT=ACCEPTED;RSVP=TRUE;CN="Franck e
 t Nadine Sarah Aubert":https://epanews.fr/profile/FranckAUBERT
END:VEVENT
END:VCALENDAR
