BEGIN:VCALENDAR
PRODID:NingEventWidget-v1
VERSION:2.0
METHOD:PUBLISH
BEGIN:VTIMEZONE
TZID:Europe/Paris
X-LIC-LOCATION:Europe/Paris
BEGIN:DAYLIGHT
TZOFFSETFROM:+0100
TZOFFSETTO:+0200
TZNAME:CEST
DTSTART:19700329T020000
RRULE:FREQ=YEARLY;BYMONTH=3;BYDAY=-1SU
END:DAYLIGHT
BEGIN:STANDARD
TZOFFSETFROM:+0200
TZOFFSETTO:+0100
TZNAME:CET
DTSTART:19701025T030000
RRULE:FREQ=YEARLY;BYMONTH=10;BYDAY=-1SU
END:STANDARD
END:VTIMEZONE
BEGIN:VEVENT
UID:2485226:Event:3057117
DTSTAMP:20260426T034709Z
SUMMARY:SÃ©jour remise en forme en Espagne
DESCRIPTION:Un SÃ©jour Ressourcement, câ€™estÂ pour te ressourcer et \
 "retrouver la pÃªche\" au quotidien SÃ©jours Remise en Forme avec Natâ
 €™ El ZÃ©ar\nSÃ©jours Remise en Forme avec Natâ€™ El ZÃ©ar\nAu program
 me du sÃ©jour * Contacter lâ€™Ã©nergie de vie (par le mouvement) * Ret
 rouver la joie de vivre dans un corps en SantÃ© * Activer le cerveau e
 t dÃ©velopper notre crÃ©ativitÃ© * DÃ©couvrir le plaisir dâ€™une alime
 ntation saine et vivante\nUn SÃ©jour avec Nat'... c'est quoi exactemen
 t? https://youtu.be/hxzdJ8oP4vM\n\nPour plus d'information, aller sur 
 https://epanews.fr/events/s-jour-remise-en-forme-en-espagne
DTSTART;TZID=Europe/Paris:20230813T150000
DTEND;TZID=Europe/Paris:20230819T110000
CATEGORIES:espagne
LOCATION:Flores de Vida * Maella * Espagne
WEBSITE:https://www.etre-en-forme-vraiment.com/sejours-remise-en-forme
 /
URL:https://www.etre-en-forme-vraiment.com/sejours-remise-en-forme/
CONTACT:+34 643 11 48 00 (Telegram)
ORGANIZER;CN="Nat'":https://epanews.fr/profile/Nat
ATTACH;FMTTYPE="image/jpeg":
ATTENDEE;ROLE=REQ-PARTICIPANT;PARTSTAT=ACCEPTED;RSVP=TRUE;CN="Nat'":ht
 tps://epanews.fr/profile/Nat
END:VEVENT
END:VCALENDAR
