BEGIN:VCALENDAR
PRODID:NingEventWidget-v1
VERSION:2.0
METHOD:PUBLISH
BEGIN:VTIMEZONE
TZID:Europe/Paris
X-LIC-LOCATION:Europe/Paris
BEGIN:DAYLIGHT
TZOFFSETFROM:+0100
TZOFFSETTO:+0200
TZNAME:CEST
DTSTART:19700329T020000
RRULE:FREQ=YEARLY;BYMONTH=3;BYDAY=-1SU
END:DAYLIGHT
BEGIN:STANDARD
TZOFFSETFROM:+0200
TZOFFSETTO:+0100
TZNAME:CET
DTSTART:19701025T030000
RRULE:FREQ=YEARLY;BYMONTH=10;BYDAY=-1SU
END:STANDARD
END:VTIMEZONE
BEGIN:VEVENT
UID:2485226:Event:1350170
DTSTAMP:20260421T203155Z
SUMMARY:SÃ©jour randonnÃ©es et bien Ãªtre
DESCRIPTION:Venez dÃ©couvrir la station de MÃ©ribel, au cÅ“ur des 3 va
 llÃ©esÂ etÂ profiter de ce cadre superbe, pour randonner et bÃ©nÃ©fici
 er d'un forfait bien Ãªtre dans le spa du chÃ¢let Jeunesse et Famille.
 \nJe vous propose un sÃ©jour de 5, 6 ou 7 jours, du dimanche 23 juin a
 u dimanche 30 juinÂ comprenant :\n- sÃ©jour en pension complÃ¨te\n- 3 
 randonnÃ©es avec un guide professionnel\n- accÃ¨s illimitÃ© aux instal
 lations du Spa (piscine chauffÃ©e, 1 jacuzzi, 1 hammam, 2 Saunas)\n- 2
  massages de 1h ou 4 de 1/2h\n- 1 ou 2 sÃ©ances de sophro-relaxation e
 t auto massages\nLe prix, hors transport et boissons, est de :\nÂ Â 5 
 jours = 530 â‚¬ ou 6 jours = 588 â‚¬ ou 646 â‚¬ 7 jours\nÂ \nJe serais
  votre accompagnatrice, masseuse et sophrologue, tout au long de ce sÃ
 ©jour.\nÂ \nvous pouvez me contacter au :\n06 84 51 83 78\nEt je serai
 s ravie de vous donner toute information complÃ©mentaire !\nÂ \nEve\nÂ
  \n\nPour plus d'information, aller sur https://epanews.fr/events/s-jo
 ur-randonn-es-et-bien-tre
DTSTART;TZID=Europe/Paris:20130623T150000
DTEND;TZID=Europe/Paris:20130630T100000
CATEGORIES:73
LOCATION:Station de MÃ©ribel, chÃ¢let Jeunesse et Famille
WEBSITE:
URL:
CONTACT:
ORGANIZER;CN=Domendeve:https://epanews.fr/profile/Domendeve
ATTACH;FMTTYPE="image/jpeg":
ATTENDEE;ROLE=REQ-PARTICIPANT;PARTSTAT=ACCEPTED;RSVP=TRUE;CN=Domendeve
 :https://epanews.fr/profile/Domendeve
END:VEVENT
END:VCALENDAR
