BEGIN:VCALENDAR
PRODID:NingEventWidget-v1
VERSION:2.0
METHOD:PUBLISH
BEGIN:VTIMEZONE
TZID:Europe/Paris
X-LIC-LOCATION:Europe/Paris
BEGIN:DAYLIGHT
TZOFFSETFROM:+0100
TZOFFSETTO:+0200
TZNAME:CEST
DTSTART:19700329T020000
RRULE:FREQ=YEARLY;BYMONTH=3;BYDAY=-1SU
END:DAYLIGHT
BEGIN:STANDARD
TZOFFSETFROM:+0200
TZOFFSETTO:+0100
TZNAME:CET
DTSTART:19701025T030000
RRULE:FREQ=YEARLY;BYMONTH=10;BYDAY=-1SU
END:STANDARD
END:VTIMEZONE
BEGIN:VEVENT
UID:2485226:Event:2672576
DTSTAMP:20260423T181504Z
SUMMARY:séjour en Normandie
DESCRIPTION:Bonjour, pour un séjour en Normandie à tout petit prix d
 u 1 er au 5 août avec piscine, jaccuzi, ateliers.. Me contacter. Anou
 chka 06 63 55 01 03.. Possibilité de donner des ateliers.\n\nPour plu
 s d'information, aller sur https://epanews.fr/events/s-jour-en-normand
 ie
DTSTART;TZID=Europe/Paris:20160801T180000
DTEND;TZID=Europe/Paris:20160805T190000
CATEGORIES:27
LOCATION:Normandie
WEBSITE:
URL:
CONTACT:
ORGANIZER;CN="buyle anne":https://epanews.fr/profile/buyleanne
ATTACH;FMTTYPE="image/jpeg":http://storage.ning.com/topology/rest/1.0/
 file/get/1663582339?profile=original
ATTENDEE;ROLE=REQ-PARTICIPANT;PARTSTAT=ACCEPTED;RSVP=TRUE;CN="buyle an
 ne":https://epanews.fr/profile/buyleanne
END:VEVENT
END:VCALENDAR
