BEGIN:VCALENDAR
PRODID:NingEventWidget-v1
VERSION:2.0
METHOD:PUBLISH
BEGIN:VTIMEZONE
TZID:Europe/Paris
X-LIC-LOCATION:Europe/Paris
BEGIN:DAYLIGHT
TZOFFSETFROM:+0100
TZOFFSETTO:+0200
TZNAME:CEST
DTSTART:19700329T020000
RRULE:FREQ=YEARLY;BYMONTH=3;BYDAY=-1SU
END:DAYLIGHT
BEGIN:STANDARD
TZOFFSETFROM:+0200
TZOFFSETTO:+0100
TZNAME:CET
DTSTART:19701025T030000
RRULE:FREQ=YEARLY;BYMONTH=10;BYDAY=-1SU
END:STANDARD
END:VTIMEZONE
BEGIN:VEVENT
UID:2485226:Event:2560031
DTSTAMP:20260424T010950Z
SUMMARY:Séjour \"Destination Bien-Être\" en montagne
DESCRIPTION:Un séjour d’immersion totale pour une remise en forme g
 lobale de 6 jours, dans un merveilleux endroit situé dans les Alpes 
 de Haute Savoie : Les Carroz D’Arâches; Au programme : 2 jours de 
 détox « habitudes alimentaires », 2 jours de détox du corps physiq
 ue et 2 jours de détox du mental… Des intervenants professionnels v
 ous prendront en main, et accompagneront votre intention de repartir d
 ans une forme éclatante : Des ateliers sur la nutrition, l’alimenta
 tion saine, l’hygiène de vie… ponctués de balades en montagne à
  la découverte des plantes sauvages et comestibles, la préparation 
 de plats sains, et de « potions magiques » pour la santé; S’en s
 uivront des cours d’initiation au yoga, Qi Gong, et une pratique sim
 ple de la méditation; des marches « silencieuses » en montagne, un
 e reconnexion avec la nature et les 5 éléments, des massages et soi
 ns selon vos besoins du moment… Enfin, la note finale : Apprendre à
  « reconnecter » votre cerveau avec l’essentiel… par diverses s
 éances de coaching, des méthodes simples pour retrouver « la joie 
 intérieure », et apprendre le détachement… Du 1er Aout au 6 Aout 
 2016 Hébergement au MILK Hôtel –Les Carroz\nRenseignements au 06 7
 8 88 64 48\n\nPour plus d'information, aller sur https://epanews.fr/ev
 ents/s-jour-destination-bien-tre-en-montagne
DTSTART;TZID=Europe/Paris:20160801T000000
DTEND;TZID=Europe/Paris:20160806T235900
CATEGORIES:74
LOCATION:Hôtel MILK-Les Carroz d'Arache
WEBSITE:https://www.facebook.com/EVEIL-Partage-1613405035596603/
URL:https://www.facebook.com/EVEIL-Partage-1613405035596603/
CONTACT:0678886448
ORGANIZER;CN="O!SMose":https://epanews.fr/profile/OSMose267
ATTACH;FMTTYPE="image/jpeg":http://storage.ning.com/topology/rest/1.0/
 file/get/1663583417?profile=original
ATTENDEE;ROLE=REQ-PARTICIPANT;PARTSTAT=ACCEPTED;RSVP=TRUE;CN="O!SMose"
 :https://epanews.fr/profile/OSMose267
END:VEVENT
END:VCALENDAR
