BEGIN:VCALENDAR
PRODID:NingEventWidget-v1
VERSION:2.0
METHOD:PUBLISH
BEGIN:VTIMEZONE
TZID:Europe/Paris
X-LIC-LOCATION:Europe/Paris
BEGIN:DAYLIGHT
TZOFFSETFROM:+0100
TZOFFSETTO:+0200
TZNAME:CEST
DTSTART:19700329T020000
RRULE:FREQ=YEARLY;BYMONTH=3;BYDAY=-1SU
END:DAYLIGHT
BEGIN:STANDARD
TZOFFSETFROM:+0200
TZOFFSETTO:+0100
TZNAME:CET
DTSTART:19701025T030000
RRULE:FREQ=YEARLY;BYMONTH=10;BYDAY=-1SU
END:STANDARD
END:VTIMEZONE
BEGIN:VEVENT
UID:2485226:Event:573289
DTSTAMP:20260423T014627Z
SUMMARY:Séjour de Mieux-être en Luberon, en groupe
DESCRIPTION:Monodiète (riz complet, fruits ou jus de légumes), jeûn
 e, yoga, balades Nature, relaxation, conférences naturopathie, réfle
 xologie plantaire, soins esthétiques bio, coaching...\n\nPour plus d'
 information, aller sur https://epanews.fr/events/s-jour-de-mieux-tre-e
 n-luberon-en-groupe
DTSTART;TZID=Europe/Paris:20111121T000000
DTEND;TZID=Europe/Paris:20111126T000000
CATEGORIES:84
LOCATION:Avignon/Aix-en-Provence
WEBSITE:http://www.assoharmonie.fr
URL:http://www.assoharmonie.fr
CONTACT:06 61 61 33 88
ORGANIZER:Association Harmonie et Nature
ATTACH;FMTTYPE="image/jpeg":
ATTENDEE;ROLE=REQ-PARTICIPANT;PARTSTAT=ACCEPTED;RSVP=TRUE;CN=Isahia:ht
 tps://epanews.fr/profile/IsahiaLeclair
END:VEVENT
END:VCALENDAR
