BEGIN:VCALENDAR
PRODID:NingEventWidget-v1
VERSION:2.0
METHOD:PUBLISH
BEGIN:VTIMEZONE
TZID:Europe/Paris
X-LIC-LOCATION:Europe/Paris
BEGIN:DAYLIGHT
TZOFFSETFROM:+0100
TZOFFSETTO:+0200
TZNAME:CEST
DTSTART:19700329T020000
RRULE:FREQ=YEARLY;BYMONTH=3;BYDAY=-1SU
END:DAYLIGHT
BEGIN:STANDARD
TZOFFSETFROM:+0200
TZOFFSETTO:+0100
TZNAME:CET
DTSTART:19701025T030000
RRULE:FREQ=YEARLY;BYMONTH=10;BYDAY=-1SU
END:STANDARD
END:VTIMEZONE
BEGIN:VEVENT
UID:2485226:Event:1035542
DTSTAMP:20260422T215804Z
SUMMARY:séjour Détox Relax Nature
DESCRIPTION:monodiète et/ou jeûne hydrique\ntechniques de relaxation
 , bol d'Air Jacquier*\npromenades dans la nature\neau de mer chauffée
  à 32°C, sauna, hammans, massages\nLe programme sera finalisé en fo
 nction des participants, aussi contactez-moi d'ores et déjà si cette
  expérience vous intéresse !\nVoir un exemple de programme de stage 
 sur le site www.unevieenvies.com page \"mes stages\"\n\nPour plus d'in
 formation, aller sur https://epanews.fr/events/s-jour-d-tox-relax-natu
 re
DTSTART;TZID=Europe/Paris:20130121T100000
DTEND;TZID=Europe/Paris:20130125T220000
CATEGORIES:tous
LOCATION:Baie de La Baule
WEBSITE:
URL:
CONTACT:0683556103
ORGANIZER;CN="Béatrice Degez":https://epanews.fr/profile/BeatriceDege
 z
ATTACH;FMTTYPE="image/jpeg":http://storage.ning.com/topology/rest/1.0/
 file/get/1662701523?profile=original
ATTENDEE;ROLE=REQ-PARTICIPANT;PARTSTAT=ACCEPTED;RSVP=TRUE;CN="Béatric
 e Degez":https://epanews.fr/profile/BeatriceDegez
END:VEVENT
END:VCALENDAR
