BEGIN:VCALENDAR
PRODID:NingEventWidget-v1
VERSION:2.0
METHOD:PUBLISH
BEGIN:VTIMEZONE
TZID:Europe/Paris
X-LIC-LOCATION:Europe/Paris
BEGIN:DAYLIGHT
TZOFFSETFROM:+0100
TZOFFSETTO:+0200
TZNAME:CEST
DTSTART:19700329T020000
RRULE:FREQ=YEARLY;BYMONTH=3;BYDAY=-1SU
END:DAYLIGHT
BEGIN:STANDARD
TZOFFSETFROM:+0200
TZOFFSETTO:+0100
TZNAME:CET
DTSTART:19701025T030000
RRULE:FREQ=YEARLY;BYMONTH=10;BYDAY=-1SU
END:STANDARD
END:VTIMEZONE
BEGIN:VEVENT
UID:2485226:Event:2393397
DTSTAMP:20260423T175300Z
SUMMARY:SÃ©jour au Maroc  \"Dans le silence du dÃ©sert\"
DESCRIPTION:Nous vous proposons de vivre une mÃ©harÃ©e pour dÃ©couvrir
  et apprivoiser sa part dâ€™inconnu dans un milieu exceptionnel.Â \nCe
 s 5 jours dans le dÃ©sertÂ  nous permettront de vivre pleinement ce qu
 i est, dans la fluiditÃ© de l'instant et des opportunitÃ©s, au rythme 
 de chacun, sans notion de performance ni d'objectif.\nLa spiritualitÃ©
  nous pousse Ã  nous rÃ©aliser, Ã  partir en quÃªte deÂ recherche intÃ
 ©rieure qui entraÃ®ne lâ€™Ãªtre Ã  aller vers les possibilitÃ©sÂ quâ€™
 il ignore.\nCe magnifique voyage,Â dans le partage et la lumiÃ¨re du d
 Ã©sert, sera accompagnÃ© de temps de mÃ©ditations et d'ateliers (roue 
 de mÃ©decine, enseignements, cercles de partages) animÃ©s parÂ Ramoudi
 .\nNous dÃ©couvrironsÂ en toute sÃ©curitÃ© cette immensitÃ© dÃ©sertiqu
 e et cetteÂ sensation de libertÃ©Â par diffÃ©rentesÂ sorties en dromad
 aires aux alentours de notreÂ bivouac.Â \n\nCe sÃ©jour est basÃ© sur l
 a rencontre avec notre part d'inconnu,Â il sera volontairement laissÃ©
  libre cours Ã .... la Vie dansÂ ce qu'elle a de plus surprenant et d'
 Ã©clairant.Â \nPrix du sÃ©jour : 600,00â‚¬/personne\nTarifs prÃ©fÃ©ren
 tiels pour les couples, groupes, associations\nLes places sont limitÃ©
 esÂ Les inscriptions seront dÃ©finitivesÂ aprÃ¨sÂ engagementÂ fermeÂ e
 t dans l'ordre d'enregistrement\nDans la joie de vous accueillir et de
  partager...\n\nPour plus d'informations, n'hÃ©sitez pas Ã  nous conta
 cter :\n\n\nAssociation ELLEM\n\nÂ  Et du Â 5Â Octobre au 10 OctobreÂ 
 2015\n\n\nSIRET 81026243600019 - APE 9499Z\nVoreppe, France\n065292824
 9\nÂ \n\nPour plus d'information, aller sur https://epanews.fr/events/
 s-jour-au-maroc-dans-le-silence-du-d-sert
DTSTART;TZID=Europe/Paris:20150928T070000
DTEND;TZID=Europe/Paris:20151003T170000
CATEGORIES:tous
LOCATION:maroc
WEBSITE:http://www.association-ellem.com
URL:http://www.association-ellem.com
CONTACT:0652928249
ORGANIZER;CN="Association  Ellem":https://epanews.fr/profile/LaetitiaE
 llem
ATTACH;FMTTYPE="image/jpeg":
ATTENDEE;ROLE=REQ-PARTICIPANT;PARTSTAT=ACCEPTED;RSVP=TRUE;CN="Associat
 ion  Ellem":https://epanews.fr/profile/LaetitiaEllem
END:VEVENT
END:VCALENDAR
