BEGIN:VCALENDAR
PRODID:NingEventWidget-v1
VERSION:2.0
METHOD:PUBLISH
BEGIN:VTIMEZONE
TZID:Europe/Paris
X-LIC-LOCATION:Europe/Paris
BEGIN:DAYLIGHT
TZOFFSETFROM:+0100
TZOFFSETTO:+0200
TZNAME:CEST
DTSTART:19700329T020000
RRULE:FREQ=YEARLY;BYMONTH=3;BYDAY=-1SU
END:DAYLIGHT
BEGIN:STANDARD
TZOFFSETFROM:+0200
TZOFFSETTO:+0100
TZNAME:CET
DTSTART:19701025T030000
RRULE:FREQ=YEARLY;BYMONTH=10;BYDAY=-1SU
END:STANDARD
END:VTIMEZONE
BEGIN:VEVENT
UID:2485226:Event:2285758
DTSTAMP:20260421T162534Z
SUMMARY:séances hebdomadaires de biodanza
DESCRIPTION:séances de Biodanza le jeudi soir de 20h à 22h (sauf vac
 ances scolaires)\natelier de danse D.Feilane - 2 rue Lieutaud - Aix en
  Provence\nstimuler la joie de vivre, développer nos potentiels, augm
 enter nos défenses immunitaires... voilà quelques bienfaits de la Bi
 odanza\n\n\nPour plus d'information, aller sur https://epanews.fr/even
 ts/s-ances-de-biodanza
DTSTART;TZID=Europe/Paris:20150409T200000
DTEND;TZID=Europe/Paris:20150409T220000
CATEGORIES:13
LOCATION:Aix en Provence
WEBSITE:http://quatrinaime-biodanza.blogspot.com
URL:http://quatrinaime-biodanza.blogspot.com
CONTACT:0628069010
ORGANIZER:Catherine Moullé
ATTACH;FMTTYPE="image/jpeg":http://storage.ning.com/topology/rest/1.0/
 file/get/1663366400?profile=original
ATTENDEE;ROLE=REQ-PARTICIPANT;PARTSTAT=ACCEPTED;RSVP=TRUE;CN=quatrinai
 me:https://epanews.fr/profile/quatrinaime
END:VEVENT
END:VCALENDAR
