BEGIN:VCALENDAR
PRODID:NingEventWidget-v1
VERSION:2.0
METHOD:PUBLISH
BEGIN:VTIMEZONE
TZID:Europe/Paris
X-LIC-LOCATION:Europe/Paris
BEGIN:DAYLIGHT
TZOFFSETFROM:+0100
TZOFFSETTO:+0200
TZNAME:CEST
DTSTART:19700329T020000
RRULE:FREQ=YEARLY;BYMONTH=3;BYDAY=-1SU
END:DAYLIGHT
BEGIN:STANDARD
TZOFFSETFROM:+0200
TZOFFSETTO:+0100
TZNAME:CET
DTSTART:19701025T030000
RRULE:FREQ=YEARLY;BYMONTH=10;BYDAY=-1SU
END:STANDARD
END:VTIMEZONE
BEGIN:VEVENT
UID:2485226:Event:515003
DTSTAMP:20260422T153239Z
SUMMARY:Séances\" découverte\" de Séances \"découverte\"Relaxation
  dynamique( Sophrologie ) et de Yoga du Rire
DESCRIPTION:Pour l'équilibre physique et mental et le développement 
 harmonieux de la personnalité...\net pour faire jaillir une merveille
 use énergie positive...\nJe propose des séances \"découverte\" (2 e
 uros )de Relaxation Dynamique (Sophrologie) le samedi 17 Septembre d
 e 14h30 à 16h,  (et le lundi 3 Octobre de 10h30 à 12h) \n et
   des séances \"découverte\" (2 euros)﻿de Yoga du Rire  le vendr
 edi 23 Septembre de 18h à 19h30( et le samedi 8 Octobre de 14h30 à 1
 6h)\nInformations et réservations au 06 16 74 53 93\nGeneviève Despr
 aux\n\nPour plus d'information, aller sur https://epanews.fr/events/s-
 ances-d-couverte-de-s-ances-d-couverte-relaxation-dynamique
DTSTART;TZID=Europe/Paris:20110917T143000
DTEND;TZID=Europe/Paris:20110923T193000
CATEGORIES:83
LOCATION:TOULON
WEBSITE:
URL:
CONTACT:
ORGANIZER;CN="Geneviève DESPRAUX":https://epanews.fr/profile/Geneviev
 eDESPRAUX
ATTACH;FMTTYPE="image/jpeg":http://storage.ning.com/topology/rest/1.0/
 file/get/1662455092?profile=original
ATTENDEE;ROLE=REQ-PARTICIPANT;PARTSTAT=ACCEPTED;RSVP=TRUE;CN="Geneviè
 ve DESPRAUX":https://epanews.fr/profile/GenevieveDESPRAUX
END:VEVENT
END:VCALENDAR
