BEGIN:VCALENDAR
PRODID:NingEventWidget-v1
VERSION:2.0
METHOD:PUBLISH
BEGIN:VTIMEZONE
TZID:Europe/Paris
X-LIC-LOCATION:Europe/Paris
BEGIN:DAYLIGHT
TZOFFSETFROM:+0100
TZOFFSETTO:+0200
TZNAME:CEST
DTSTART:19700329T020000
RRULE:FREQ=YEARLY;BYMONTH=3;BYDAY=-1SU
END:DAYLIGHT
BEGIN:STANDARD
TZOFFSETFROM:+0200
TZOFFSETTO:+0100
TZNAME:CET
DTSTART:19701025T030000
RRULE:FREQ=YEARLY;BYMONTH=10;BYDAY=-1SU
END:STANDARD
END:VTIMEZONE
BEGIN:VEVENT
UID:2485226:Event:1804749
DTSTAMP:20260422T130015Z
SUMMARY:Séances \"découverte\" de Réflexologie plantaire
DESCRIPTION:Venez découvrir les bienfaits de la réflexologie plantai
 re. Technique de soutien de la Santé, cette technique apporte une pro
 fonde détente.\n\nPour plus d'information, aller sur https://epanews.
 fr/events/s-ances-d-couverte-de-r-flexologie-plantaire
DTSTART;TZID=Europe/Paris:20140301T150000
DTEND;TZID=Europe/Paris:20140301T190000
CATEGORIES:13
LOCATION:Châteaurenard, magasin Mieux Vivre
WEBSITE:http://www.naturopathe-provence.com
URL:http://www.naturopathe-provence.com
CONTACT:06.43.21.68.83
ORGANIZER;CN="Clarisse Caron Naturopathe":https://epanews.fr/profile/n
 aturo
ATTACH;FMTTYPE="image/jpeg":http://storage.ning.com/topology/rest/1.0/
 file/get/1663071887?profile=original
ATTENDEE;ROLE=REQ-PARTICIPANT;PARTSTAT=ACCEPTED;RSVP=TRUE;CN="Clarisse
  Caron Naturopathe":https://epanews.fr/profile/naturo
END:VEVENT
END:VCALENDAR
