BEGIN:VCALENDAR
PRODID:NingEventWidget-v1
VERSION:2.0
METHOD:PUBLISH
BEGIN:VTIMEZONE
TZID:Europe/Paris
X-LIC-LOCATION:Europe/Paris
BEGIN:DAYLIGHT
TZOFFSETFROM:+0100
TZOFFSETTO:+0200
TZNAME:CEST
DTSTART:19700329T020000
RRULE:FREQ=YEARLY;BYMONTH=3;BYDAY=-1SU
END:DAYLIGHT
BEGIN:STANDARD
TZOFFSETFROM:+0200
TZOFFSETTO:+0100
TZNAME:CET
DTSTART:19701025T030000
RRULE:FREQ=YEARLY;BYMONTH=10;BYDAY=-1SU
END:STANDARD
END:VTIMEZONE
BEGIN:VEVENT
UID:2485226:Event:1002933
DTSTAMP:20260423T172733Z
SUMMARY:sophrologie : séances collectives hebdomadaires
DESCRIPTION:Pour vous sentir  encore mieux  à la fois dans votre co
 rps, dans votre tête et dans votre vie....Pour votre équilibre physi
 que et mental et le développement harmonieux de votre personnalité\n
 je vous propose des séances collectives hebdomadaires de Sophrologie 
 (séance d'essai possible, cf abonnement et parrainage)\nle mercredi d
 e 10h à 11h\n A Six-fours\n    Vous pouvez m’appeler pour infor
 mations et inscriptions,\n    Osez  et venez goûter à cette appr
 oche naturelle très respectueuse de l'être humain.... Je vous accuei
 llerai avec joie .    \n                     \
 n \n\nPour plus d'information, aller sur https://epanews.fr/events/s-
 ances-collectives-hebdomadaires-de-sophrologie
DTSTART;TZID=Europe/Paris:20121128T100000
DTEND;TZID=Europe/Paris:20121128T110000
CATEGORIES:83
LOCATION:Six-Fours, espace bien-être et zen
WEBSITE:http://www.sophrologue-var.fr
URL:http://www.sophrologue-var.fr
CONTACT:06 16 74 53 92
ORGANIZER;CN="Geneviève DESPRAUX":https://epanews.fr/profile/Geneviev
 eDESPRAUX
ATTACH;FMTTYPE="image/jpeg":http://storage.ning.com/topology/rest/1.0/
 file/get/1662690153?profile=original
ATTENDEE;ROLE=REQ-PARTICIPANT;PARTSTAT=ACCEPTED;RSVP=TRUE;CN="Geneviè
 ve DESPRAUX":https://epanews.fr/profile/GenevieveDESPRAUX
END:VEVENT
END:VCALENDAR
