BEGIN:VCALENDAR
PRODID:NingEventWidget-v1
VERSION:2.0
METHOD:PUBLISH
BEGIN:VTIMEZONE
TZID:Europe/Paris
X-LIC-LOCATION:Europe/Paris
BEGIN:DAYLIGHT
TZOFFSETFROM:+0100
TZOFFSETTO:+0200
TZNAME:CEST
DTSTART:19700329T020000
RRULE:FREQ=YEARLY;BYMONTH=3;BYDAY=-1SU
END:DAYLIGHT
BEGIN:STANDARD
TZOFFSETFROM:+0200
TZOFFSETTO:+0100
TZNAME:CET
DTSTART:19701025T030000
RRULE:FREQ=YEARLY;BYMONTH=10;BYDAY=-1SU
END:STANDARD
END:VTIMEZONE
BEGIN:VEVENT
UID:2485226:Event:2907473
DTSTAMP:20260421T200806Z
SUMMARY:Séance / Pratique du sentir médicinal
DESCRIPTION:Travail dans le corps avec guidance orale\nLecture et coup
 ure par Séréna des liens toxiques conscients ou non qui nuisent à l
 a santé des corps:\n             physique, émotionnel et ment
 al\naccueil sensitif des sons et vibrations des grands gongs\n\nLors d
 es séances, il est demandé d'être dans le don respectueux de soi, p
 ar la disponibilité à la maintenance de cette qualité énergétique
  donc vibratoire. Celle-ci est indispensable envers ceux et celles qui
  sont en souffrances et dans la nécessité d'une attention spécifiqu
 e par les difficultés que ces personnes traversent.\nInscriptions et 
 réservation 0671626195\nparticipation 45€\n\nPour plus d'informatio
 n, aller sur https://epanews.fr/events/s-ance-pratique-du-sentir-m-dic
 inal
DTSTART;TZID=Europe/Paris:20171221T190000
DTEND;TZID=Europe/Paris:20171221T203000
CATEGORIES:26, 38
LOCATION:sous la yourte à Sonnay
WEBSITE:http://www.la-voie-de-la-presence.com
URL:http://www.la-voie-de-la-presence.com
CONTACT:0671626195
ORGANIZER;CN="La voie de la présence":https://epanews.fr/profile/Lavo
 iedelapresence
ATTACH;FMTTYPE="image/jpeg":http://storage.ning.com/topology/rest/1.0/
 file/get/1663702725?profile=original
ATTENDEE;ROLE=REQ-PARTICIPANT;PARTSTAT=ACCEPTED;RSVP=TRUE;CN="La voie 
 de la présence":https://epanews.fr/profile/Lavoiedelapresence
END:VEVENT
END:VCALENDAR
