BEGIN:VCALENDAR
PRODID:NingEventWidget-v1
VERSION:2.0
METHOD:PUBLISH
BEGIN:VTIMEZONE
TZID:Europe/Paris
X-LIC-LOCATION:Europe/Paris
BEGIN:DAYLIGHT
TZOFFSETFROM:+0100
TZOFFSETTO:+0200
TZNAME:CEST
DTSTART:19700329T020000
RRULE:FREQ=YEARLY;BYMONTH=3;BYDAY=-1SU
END:DAYLIGHT
BEGIN:STANDARD
TZOFFSETFROM:+0200
TZOFFSETTO:+0100
TZNAME:CET
DTSTART:19701025T030000
RRULE:FREQ=YEARLY;BYMONTH=10;BYDAY=-1SU
END:STANDARD
END:VTIMEZONE
BEGIN:VEVENT
UID:2485226:Event:1952097
DTSTAMP:20260422T071033Z
SUMMARY:Séance de relaxation \"Relax'Essence\"
DESCRIPTION:Séances collectives de relaxation.\nLa Relaxation, qu’e
 st-ce que c’est ?\nLa relaxation c’est progresser vers un mieux-ê
 tre mental, physique, émotionnel et spirituel.\nElle est là pour app
 rendre à :\n\nvous enraciner\nvous détendre\nvous recharger en éner
 gie\ngérer votre stress et ses conséquences psychologiques ou psycho
 somatiques.\nréduire vos angoisses\ngérer vos émotions\nlibérer vo
 s tensions corporelles\n\nLa relaxation repose et régénère l’espr
 it et le corps de façon plus efficace que le sommeil ordinaire (1h de
  relaxation = 4 h de sommeil ordinaire inconscient).\nDéroulement de 
 la séance\nUne séance collective de relaxation dure entre 45mn et 1h
  et comprend le temps de relaxation ainsi qu’un temps de partage du 
 vécu de la séance.\nLors de mes séances, je viserai principalement 
 à vous enraciner et vous ancrer dans votre corps.\nInfos\nDurée : 1 
 heure Tarif : 10€ Horaires : 19h30 – 20h30 Lieux : Saint Symphorie
 n, 49190 Rochefort sur Loire\n\nPour plus d'information, aller sur htt
 ps://epanews.fr/events/s-ance-de-relaxation-relax-essence
DTSTART;TZID=Europe/Paris:20140702T193000
DTEND;TZID=Europe/Paris:20140702T203000
CATEGORIES:49
LOCATION:Saint Symphorien
WEBSITE:
URL:
CONTACT:0671112610
ORGANIZER;CN=EvoluSoi:https://epanews.fr/profile/AnneMontet
ATTACH;FMTTYPE="image/jpeg":http://storage.ning.com/topology/rest/1.0/
 file/get/1663159538?profile=original
ATTENDEE;ROLE=REQ-PARTICIPANT;PARTSTAT=ACCEPTED;RSVP=TRUE;CN=EvoluSoi:
 https://epanews.fr/profile/AnneMontet
END:VEVENT
END:VCALENDAR
