BEGIN:VCALENDAR
PRODID:NingEventWidget-v1
VERSION:2.0
METHOD:PUBLISH
BEGIN:VTIMEZONE
TZID:Europe/Paris
X-LIC-LOCATION:Europe/Paris
BEGIN:DAYLIGHT
TZOFFSETFROM:+0100
TZOFFSETTO:+0200
TZNAME:CEST
DTSTART:19700329T020000
RRULE:FREQ=YEARLY;BYMONTH=3;BYDAY=-1SU
END:DAYLIGHT
BEGIN:STANDARD
TZOFFSETFROM:+0200
TZOFFSETTO:+0100
TZNAME:CET
DTSTART:19701025T030000
RRULE:FREQ=YEARLY;BYMONTH=10;BYDAY=-1SU
END:STANDARD
END:VTIMEZONE
BEGIN:VEVENT
UID:2485226:Event:1373841
DTSTAMP:20260422T051404Z
SUMMARY:séance découverte pilates!
DESCRIPTION:\nséance de renforcement musculaire offerte! |\nle dimanc
 he 26 mai 2013 à 10h30 à 12h\n\n\nséance de renforcement musculaire
 ,travail placement,gainage et posture du corps Sur réservation  aupr
 ès de: djamie: 06 11 71 69 95\n\n\n\n\n\n\nPour plus d'information, a
 ller sur https://epanews.fr/events/s-ance-d-couverte-pilates
DTSTART;TZID=Europe/Paris:20130526T103000
DTEND;TZID=Europe/Paris:20130526T120000
CATEGORIES:94220
LOCATION:espace24
WEBSITE:http://www.espace24.fr
URL:http://www.espace24.fr
CONTACT:01 43 96 19 49
ORGANIZER:l'espace24
ATTACH;FMTTYPE="image/jpeg":
ATTENDEE;ROLE=REQ-PARTICIPANT;PARTSTAT=ACCEPTED;RSVP=TRUE;CN=lespace24
 :https://epanews.fr/profile/lespace24
END:VEVENT
END:VCALENDAR
