BEGIN:VCALENDAR
PRODID:NingEventWidget-v1
VERSION:2.0
METHOD:PUBLISH
BEGIN:VTIMEZONE
TZID:Europe/Paris
X-LIC-LOCATION:Europe/Paris
BEGIN:DAYLIGHT
TZOFFSETFROM:+0100
TZOFFSETTO:+0200
TZNAME:CEST
DTSTART:19700329T020000
RRULE:FREQ=YEARLY;BYMONTH=3;BYDAY=-1SU
END:DAYLIGHT
BEGIN:STANDARD
TZOFFSETFROM:+0200
TZOFFSETTO:+0100
TZNAME:CET
DTSTART:19701025T030000
RRULE:FREQ=YEARLY;BYMONTH=10;BYDAY=-1SU
END:STANDARD
END:VTIMEZONE
BEGIN:VEVENT
UID:2485226:Event:1681769
DTSTAMP:20260424T035622Z
SUMMARY:Séance découverte: massage du dos
DESCRIPTION:Initial Massage vous propose des séances pour découvrir 
 et redécouvrir des massages à tarif libre (un minimum de 5€ de par
 ticipation aux frais vous sera demandé).Mardi 17 décembre, 4 séance
 s de massage du dos de 30 minutes sont proposées à 16:00, 17:00, 18:
 00 et 19:00. Ce massage se concentre sur toutes les tensions qui s’
 accumulent dans le dos et les épaules. Il est tantôt doux, tantôt a
 ppuyé suivant le besoin et la sensibilité du ou de la massé(e).Il p
 ermet d’évacuer le stress de nos modes de vie et de nous apporter u
 ne nouvelle énergie.\n\nPour plus d'information, aller sur https://ep
 anews.fr/events/s-ance-d-couverte-massage-du-dos
DTSTART;TZID=Europe/Paris:20131217T160000
DTEND;TZID=Europe/Paris:20131217T193000
CATEGORIES:69
LOCATION:Initial massage
WEBSITE:http://www.initial-massage.fr/
URL:http://www.initial-massage.fr/
CONTACT:07.81.00.16.98
ORGANIZER;CN="Initial Massage":https://epanews.fr/profile/InitialMassa
 ge
ATTACH;FMTTYPE="image/jpeg":http://storage.ning.com/topology/rest/1.0/
 file/get/1662997558?profile=original
ATTENDEE;ROLE=REQ-PARTICIPANT;PARTSTAT=ACCEPTED;RSVP=TRUE;CN="Initial 
 Massage":https://epanews.fr/profile/InitialMassage
END:VEVENT
END:VCALENDAR
