BEGIN:VCALENDAR
PRODID:NingEventWidget-v1
VERSION:2.0
METHOD:PUBLISH
BEGIN:VTIMEZONE
TZID:Europe/Paris
X-LIC-LOCATION:Europe/Paris
BEGIN:DAYLIGHT
TZOFFSETFROM:+0100
TZOFFSETTO:+0200
TZNAME:CEST
DTSTART:19700329T020000
RRULE:FREQ=YEARLY;BYMONTH=3;BYDAY=-1SU
END:DAYLIGHT
BEGIN:STANDARD
TZOFFSETFROM:+0200
TZOFFSETTO:+0100
TZNAME:CET
DTSTART:19701025T030000
RRULE:FREQ=YEARLY;BYMONTH=10;BYDAY=-1SU
END:STANDARD
END:VTIMEZONE
BEGIN:VEVENT
UID:2485226:Event:1401449
DTSTAMP:20260422T032514Z
SUMMARY:Séance Découverte \"Massage Bien-Être\"
DESCRIPTION:\nVenez découvrir et ressentir les bienfaits d’une séa
 nce \n                    « Voyage au cœur de Soi »\nCom
 ment se déroulera la séance « découverte »Vous vous laisserez por
 ter par le biais de jeux de draps, de coussins, au rythme de votre res
 piration. Mouvements, légers, parfois appuyés, lents afin de vous re
 connecter avec vos sensations, votre ressenti.\nMouvements-rotations p
 assives, étirements, balancements, déplacements fluides...\nPour cet
 te séance « découverte », vous resterez habillé(e). \nUniquement
  sur rendez-vous au 06 69 91 05 59Séance personnalisée30 minutes - 1
 0 €\nDès la première séance une sensation d'apaisement et de rece
 ntrage apparaît.\n----------------------------Les séances ne sont ni
  à caractère thérapeutique ni à caractère érotique et ne remplac
 ent pas un traitement médical. Elles vous aident à mieux vivre votre
  quotidien et/ou  lors d'une démarche de développement personnel.\n
 \nPour plus d'information, aller sur https://epanews.fr/events/s-ance-
 d-couverte-massage-bien-tre
DTSTART;TZID=Europe/Paris:20130612T093000
DTEND;TZID=Europe/Paris:20130612T180000
CATEGORIES:31
LOCATION:MURET
WEBSITE:https://plus.google.com/112698057715405008612/about?gl=FR&hl=f
 r-FR
URL:https://plus.google.com/112698057715405008612/about?gl=FR&hl=fr-FR
CONTACT:0669910559
ORGANIZER;CN="Naitre de ses sens":https://epanews.fr/profile/Naitredes
 essens
ATTACH;FMTTYPE="image/jpeg":
ATTENDEE;ROLE=REQ-PARTICIPANT;PARTSTAT=ACCEPTED;RSVP=TRUE;CN="Naitre d
 e ses sens":https://epanews.fr/profile/Naitredesessens
END:VEVENT
END:VCALENDAR
