BEGIN:VCALENDAR
PRODID:NingEventWidget-v1
VERSION:2.0
METHOD:PUBLISH
BEGIN:VTIMEZONE
TZID:Europe/Paris
X-LIC-LOCATION:Europe/Paris
BEGIN:DAYLIGHT
TZOFFSETFROM:+0100
TZOFFSETTO:+0200
TZNAME:CEST
DTSTART:19700329T020000
RRULE:FREQ=YEARLY;BYMONTH=3;BYDAY=-1SU
END:DAYLIGHT
BEGIN:STANDARD
TZOFFSETFROM:+0200
TZOFFSETTO:+0100
TZNAME:CET
DTSTART:19701025T030000
RRULE:FREQ=YEARLY;BYMONTH=10;BYDAY=-1SU
END:STANDARD
END:VTIMEZONE
BEGIN:VEVENT
UID:2485226:Event:973085
DTSTAMP:20260419T171938Z
SUMMARY:séance découverte de Biodanza à Lyon-Villeurbanne
DESCRIPTION:Venez découvrir la Biodanza : joie de vivre, bien-être, 
 vitalité, créativité...pour aller à la rencontre de soi et des aut
 res dans le plaisir de danser.\n\nPour plus d'information, aller sur h
 ttps://epanews.fr/events/s-ance-d-couverte-de-biodanza-lyon-villeurban
 ne
DTSTART;TZID=Europe/Paris:20121018T200000
DTEND;TZID=Europe/Paris:20121018T220000
CATEGORIES:69
LOCATION:villeurbanne
WEBSITE:http://biodanzavilleurbanne.wix.com/biodanza-yebo
URL:http://biodanzavilleurbanne.wix.com/biodanza-yebo
CONTACT:0613285917
ORGANIZER:Blandine et Patrick
ATTACH;FMTTYPE="image/jpeg":
ATTENDEE;ROLE=REQ-PARTICIPANT;PARTSTAT=ACCEPTED;RSVP=TRUE;CN=Blandine:
 https://epanews.fr/profile/Blandine665
END:VEVENT
END:VCALENDAR
