BEGIN:VCALENDAR
PRODID:NingEventWidget-v1
VERSION:2.0
METHOD:PUBLISH
BEGIN:VTIMEZONE
TZID:Europe/Paris
X-LIC-LOCATION:Europe/Paris
BEGIN:DAYLIGHT
TZOFFSETFROM:+0100
TZOFFSETTO:+0200
TZNAME:CEST
DTSTART:19700329T020000
RRULE:FREQ=YEARLY;BYMONTH=3;BYDAY=-1SU
END:DAYLIGHT
BEGIN:STANDARD
TZOFFSETFROM:+0200
TZOFFSETTO:+0100
TZNAME:CET
DTSTART:19701025T030000
RRULE:FREQ=YEARLY;BYMONTH=10;BYDAY=-1SU
END:STANDARD
END:VTIMEZONE
BEGIN:VEVENT
UID:2485226:Event:1933734
DTSTAMP:20260421T044810Z
SUMMARY:Rythmes et magie du tambour de chaman  dans les CÃ©vennes du S
 ud
DESCRIPTION:Co-animÃ© par Jeff de la Chaise et Joel LÃªvÃ¨que. Le tamb
 our chamanique a un immense et inÃ©puisable potentiel de transformatio
 n et de guÃ©rison par l'Ã©mission et la rÃ©ception de ses vibrations s
 ubtiles.Perfectionner son utilisation est une expÃ©rience personnelle 
 unique et riche en enseignements.Programme :- Le \"chamanisme\" est en
  chacun de nous et Ã  partir de cette affirmation, nous aborderons les
  points suivants :- DÃ©velopper la confiance en son intuition.- Exprim
 er qui l'on est dans le moment prÃ©sent par le \"langage du son\"et la
  rÃ©sonance.- Alignement de nos centres.Ouverture aux quatre direction
 s, aux ressources et gardiens associÃ©s.- Travail avec les quatre Ã©lÃ
 ©ments : comment faire Ã©merger leurs diffÃ©rentes qualitÃ©s par le je
 u musical et la danse, autant au niveau corporel, que psychologique ou
  spirituel.- Notions d'archÃ©types, \"d'esprits\", leurs aspects lumin
 eux et leurs aspects ombres.- Comment se mettre dans \"l'Ã©tat d'Ãªtre
  de guÃ©risseur\".- IntÃ©gration, sÃ©ance de guÃ©rison et d'auto-guÃ©r
 ison.- Outils:Technique du geste musical et du jeu percussif.- MÃ©dita
 tions dans le silence de la nature.\n200 â‚¬ inclus repas et camping e
 t prÃªt de tambours. J-F de La Chaise: Percussionniste depuis plus de 
 30 ans; voyage en Afrique, Ã  Cuba, au BrÃ©sil, crÃ©ateur de Tempo oiÃ
 ´! groupe de percussions et cuivres qui rend hommage Ã  la culture noi
 re; initiÃ© avec des chamanes et des danseurs Ã  travers une recherche
  spirituelle sur l'Ã©nergie, enseigne et partage sa passion de la musi
 que avec des groupes d'enfants ou d'adultes. Auteur d'un livre pÃ©dago
 gique \"Initiation Ã  la magie des percussions\" (Ed. du Souffle d'Or)
  et d'un cd de percussions afro-latines et chamaniques \"Retour de voy
 ages imaginaires\" en Ã©coute sur son site : www.delachaise-percussion
 s.com\nAssociation \"Autour des tambours\"Mas Lafont30170 CROS06 80 46
  35 18 levequejoel2005@yahoo.fr https://www.facebook.com/autourdestamb
 ourshttp://www.joel-leveque.com\n\nPour plus d'information, aller sur 
 https://epanews.fr/events/rythmes-et-magie-du-tambour-de-chaman-dans-l
 es-c-vennes-du-sud
DTSTART;TZID=Europe/Paris:20140726T090000
DTEND;TZID=Europe/Paris:20140727T170000
CATEGORIES:30
LOCATION:Campement Autour des Tambours
WEBSITE:http://www.joel-leveque.com
URL:http://www.joel-leveque.com
CONTACT:06 80 46 35 18
ORGANIZER;CN=joel:https://epanews.fr/profile/joel495
ATTACH;FMTTYPE="image/jpeg":http://storage.ning.com/topology/rest/1.0/
 file/get/1663146467?profile=original
ATTENDEE;ROLE=REQ-PARTICIPANT;PARTSTAT=ACCEPTED;RSVP=TRUE;CN=joel:http
 s://epanews.fr/profile/joel495
ATTENDEE;ROLE=REQ-PARTICIPANT;PARTSTAT=TENTATIVE;RSVP=TRUE;CN=CAROLE:h
 ttps://epanews.fr/profile/POQUETCAROLE
END:VEVENT
END:VCALENDAR
