BEGIN:VCALENDAR
PRODID:NingEventWidget-v1
VERSION:2.0
METHOD:PUBLISH
BEGIN:VTIMEZONE
TZID:Europe/Paris
X-LIC-LOCATION:Europe/Paris
BEGIN:DAYLIGHT
TZOFFSETFROM:+0100
TZOFFSETTO:+0200
TZNAME:CEST
DTSTART:19700329T020000
RRULE:FREQ=YEARLY;BYMONTH=3;BYDAY=-1SU
END:DAYLIGHT
BEGIN:STANDARD
TZOFFSETFROM:+0200
TZOFFSETTO:+0100
TZNAME:CET
DTSTART:19701025T030000
RRULE:FREQ=YEARLY;BYMONTH=10;BYDAY=-1SU
END:STANDARD
END:VTIMEZONE
BEGIN:VEVENT
UID:2485226:Event:1048472
DTSTAMP:20260422T080213Z
SUMMARY:Rormation au Référentiel de Naissance
DESCRIPTION:Le Référentiel de Naissance se calcule avec votre date d
 e naissance. Les arcanes du Tarot de Marseille s’inscrivent dans 13 
 maisons qui expriment notre manière de penser, d’agir, nos ressourc
 es, nos défis…  Chaque arcane du Tarot vit en nous et nous pouvons 
 la contacter de l’intérieur. Il n’y a pas de bonne ou de mauvaise
  carte, elles ont toutes un pôle « ombre » et un pôle « lumiè
 re ». L’apprentissage théorique sera associé à un travail prati
 que afin de vous permettre de faire vibre et vivre votre Référentiel
 .\nAucune connaissance préalable n’est nécessaire.\nRenseignements
  et Inscription : Caroline : 06 72 44 18 33 ou contact@chemins-de-sens
 .fr\nDates : les samedis 19 janvier, 23 février, 23 mars, 27 avril, 2
 5 mai et 15 juin 2013  Horaire : de 9h30 à 18h30 Tarif : 90 € la jo
 urnée Lieu :  ASTM : 270 rue du Fbg Saint Martin, Paris 10ème métr
 o Stalingrad (lignes 2, 5, 7). Le code vous sera communiqué à l'insc
 ription.\n\nPour plus d'information, aller sur https://epanews.fr/even
 ts/rormation-au-r-f-rentiel-de-naissance
DTSTART;TZID=Europe/Paris:20130119T093000
DTEND;TZID=Europe/Paris:20130119T183000
CATEGORIES:75
LOCATION:ASTM (Paris 10è)
WEBSITE:http://www.chemins-de-sens.fr
URL:http://www.chemins-de-sens.fr
CONTACT:06 72 44 18 33
ORGANIZER;CN=caroline:https://epanews.fr/profile/caroline589
ATTACH;FMTTYPE="image/jpeg":http://storage.ning.com/topology/rest/1.0/
 file/get/1662708354?profile=original
ATTENDEE;ROLE=REQ-PARTICIPANT;PARTSTAT=ACCEPTED;RSVP=TRUE;CN=caroline:
 https://epanews.fr/profile/caroline589
END:VEVENT
END:VCALENDAR
