BEGIN:VCALENDAR
PRODID:NingEventWidget-v1
VERSION:2.0
METHOD:PUBLISH
BEGIN:VTIMEZONE
TZID:Europe/Paris
X-LIC-LOCATION:Europe/Paris
BEGIN:DAYLIGHT
TZOFFSETFROM:+0100
TZOFFSETTO:+0200
TZNAME:CEST
DTSTART:19700329T020000
RRULE:FREQ=YEARLY;BYMONTH=3;BYDAY=-1SU
END:DAYLIGHT
BEGIN:STANDARD
TZOFFSETFROM:+0200
TZOFFSETTO:+0100
TZNAME:CET
DTSTART:19701025T030000
RRULE:FREQ=YEARLY;BYMONTH=10;BYDAY=-1SU
END:STANDARD
END:VTIMEZONE
BEGIN:VEVENT
UID:2485226:Event:2596569
DTSTAMP:20260422T032606Z
SUMMARY:Modification demandée
DESCRIPTION:* Tendresse & conscience du corps * \nRITUELS AYURVÉDIQUE
 S & ÉVEIL DU CORPS\n\nRetrouvons nous lors d'une matinée autour des 
 rituels de la médecine traditionnelle indienne : l'Ayurveda \n\nSamed
 i 26 Mars\nde 9h30 à 11h\n \nl'Ayurveda, au delà d'une médecine, c'
 est la connaissance de soi, alors apprenons à prendre soin de notre c
 orps, notre esprit et notre âme, à sentir ce qui nous fait du bien, 
 être à l'écoute de nos sensations, être en accord avec notre monde
  intérieur et extérieur.\n\n* Réveil du corps & Sankalpa\nAuto-mass
 age du matin à l'huile\nÉtirements\nPranayama (respiration) \n\n* Di
 nacharya : routine journalière\nchaque jour, célébrer la vie en pre
 nant soin de son corps par la pratique d'une routine matinale ayurvéd
 ique de santé (purification du matin, hygiène de vie ayurvédique, e
 tc..)\n\nprévoir une tenue confortable et un paréo pour se couvrir l
 ors de l'auto-massage.\n\n* Méditation\n\n15 € \nsur réservation\n
 \n\nPour plus d'information, aller sur https://epanews.fr/events/ritue
 ls-ayurv-diques-veil-du-corps
DTSTART;TZID=Europe/Paris:20160326T210000
DTEND;TZID=Europe/Paris:20160326T230000
CATEGORIES:30
LOCATION:Nimes
WEBSITE:http://anahatamassage.over-blog.com/
URL:http://anahatamassage.over-blog.com/
CONTACT:0664515525
ORGANIZER;CN=Elsa:https://epanews.fr/profile/Elsa555
ATTACH;FMTTYPE="image/jpeg":http://storage.ning.com/topology/rest/1.0/
 file/get/1663537867?profile=original
ATTENDEE;ROLE=REQ-PARTICIPANT;PARTSTAT=ACCEPTED;RSVP=TRUE;CN=Elsa:http
 s://epanews.fr/profile/Elsa555
END:VEVENT
END:VCALENDAR
