BEGIN:VCALENDAR
PRODID:NingEventWidget-v1
VERSION:2.0
METHOD:PUBLISH
BEGIN:VTIMEZONE
TZID:Europe/Paris
X-LIC-LOCATION:Europe/Paris
BEGIN:DAYLIGHT
TZOFFSETFROM:+0100
TZOFFSETTO:+0200
TZNAME:CEST
DTSTART:19700329T020000
RRULE:FREQ=YEARLY;BYMONTH=3;BYDAY=-1SU
END:DAYLIGHT
BEGIN:STANDARD
TZOFFSETFROM:+0200
TZOFFSETTO:+0100
TZNAME:CET
DTSTART:19701025T030000
RRULE:FREQ=YEARLY;BYMONTH=10;BYDAY=-1SU
END:STANDARD
END:VTIMEZONE
BEGIN:VEVENT
UID:2485226:Event:1403363
DTSTAMP:20260421T170911Z
SUMMARY:rituel du solstice d'été
DESCRIPTION:\"Rituel du Solstice d'Eté\"\n« Juin est le mois de Jun
 on ou Héra, déesse lunaire de la fécondité et de la Féminité ; 
 C’est aussi le mois de la chaleur et de la Lumière, le soleil étan
 t à son apogée ; Associé à l’élément Feu et au cœur, il symb
 olise l’énergie, la vitalité, la force d’action, la réalisation
 , le dynamisme. Tout comme il invite à la légèreté et à l’élé
 vation, Lorsque nous aurons appris à aimer, nous serons comme le sole
 il déversant notre Lumière sur tous sans aucune distinction ni atten
 te, sans que quiconque ne puisse l'éteindre.\nCette rencontre  est u
 ne invitation au partage auprès de la nature car, lorsque fécondité
  de la terre et  générosité de l’Homme s’associent, c’est la
  Corne d’Abondance qui se déverse.»\nTarif : 30€/25€ pour adh
 érents de l'Association \"L'Apprenti-Sage\"\n\nPour plus d'informatio
 n, aller sur https://epanews.fr/events/rituel-du-solstice-d-t
DTSTART;TZID=Europe/Paris:20130622T200000
DTEND;TZID=Europe/Paris:20130622T233000
CATEGORIES:83
LOCATION:Salle\" La Pépinière\"
WEBSITE:
URL:
CONTACT:Claire PENNA  au 06 14 25 83 79 ou claire.penna@dbmail.com
ORGANIZER;CN="Franck et Nadine Sarah Aubert":https://epanews.fr/profil
 e/FranckAUBERT
ATTACH;FMTTYPE="image/jpeg":http://storage.ning.com/topology/rest/1.0/
 file/get/1662859935?profile=original
ATTENDEE;ROLE=REQ-PARTICIPANT;PARTSTAT=ACCEPTED;RSVP=TRUE;CN="Franck e
 t Nadine Sarah Aubert":https://epanews.fr/profile/FranckAUBERT
END:VEVENT
END:VCALENDAR
