BEGIN:VCALENDAR
PRODID:NingEventWidget-v1
VERSION:2.0
METHOD:PUBLISH
BEGIN:VTIMEZONE
TZID:Europe/Paris
X-LIC-LOCATION:Europe/Paris
BEGIN:DAYLIGHT
TZOFFSETFROM:+0100
TZOFFSETTO:+0200
TZNAME:CEST
DTSTART:19700329T020000
RRULE:FREQ=YEARLY;BYMONTH=3;BYDAY=-1SU
END:DAYLIGHT
BEGIN:STANDARD
TZOFFSETFROM:+0200
TZOFFSETTO:+0100
TZNAME:CET
DTSTART:19701025T030000
RRULE:FREQ=YEARLY;BYMONTH=10;BYDAY=-1SU
END:STANDARD
END:VTIMEZONE
BEGIN:VEVENT
UID:2485226:Event:1861051
DTSTAMP:20260421T161608Z
SUMMARY:Rite de passage jeunes filles devenant Femmes
DESCRIPTION:Les 15 et 16 juillet 2014 de 9h Ã  17h30 (Nuit comprise)Qu
 â€™est ce quâ€™un rite de passage ?Un rite de passage est un rituel ma
 rquant le changement de statut social, physiologique, personnel ou sex
 uel d'un individu.Â Le plus gÃ©nÃ©ralement la pubertÃ©, mais aussi pou
 r d'autres Ã©vÃ©nements comme la naissance ou la mÃ©nopause.Â Le ritue
 l se matÃ©rialise le plus souvent par une cÃ©rÃ©monie, un rituel.Les r
 ites de passage permettent de lier l'individu Ã  un groupe mais aussi 
 de structurer sa vie en Ã©tapes prÃ©cises.Les sociÃ©tÃ©s traditionnell
 es organisent des rites de passage cÃ©lÃ©brant la mÃ©tamorphose de l'e
 nfant en adulte, lâ€™arrivÃ© de la mÃ©nopause etc...Â Le rite de passa
 ge honorer nos filles devenant femmes :Â Un parallÃ¨le est Ã©tabli ent
 re les rites initiatiques des populations traditionnelles et les phÃ©n
 omÃ¨nes de mÃ©tamorphose (piercings, tatouages etc...) qui touchent le
 s jeunes gÃ©nÃ©rations occidentales.Les jeunes filles ont besoin dâ€™Ã
 ªtre informÃ©es sur la rÃ©alitÃ© des menstruations.Les menstruations s
 ont douloureusesLes menstruations peuvent Ãªtre fatigantesLes seins go
 nflent et sont douloureuxOn est de mauvaise humeur, irritable, dÃ©sagr
 Ã©ableOn ne peut pas faire de sportOn a plus de boutons sur la peau et
 c....IL EST POSSIBLE DE VIVRE LES CHOSES AUTREMENTÂ Dans la tÃªte des 
 femmes et aussi des hommes, les menstruations sont perÃ§ues comme quel
 que choses de nÃ©gatif alors quâ€™en apprenant Ã  les vivre de faÃ§on 
 positive, elles deviennent un formidable outil dâ€™Ã©panouissement.Nou
 s vous amÃ¨nerons Ã  voire les choses dâ€™une autre faÃ§on et Ã  explo
 iter de faÃ§on plus constructive toutes les pÃ©riodes de votre cycle:d
 ans votre travaildans vos relations amicales, familiales et amoureuses
 dans votre crÃ©ativitÃ©dans votre sexualitÃ©dans votre spiritualitÃ© e
 tc...Dans notre sociÃ©tÃ© moderne, la transmission des savoirs, les se
 crets des grand-mÃ¨res et les rites de passage sont perdus ou oubliÃ©s
  au fond de nos mÃ©moires.Les jeunes filles vivent un passage particul
 iÃ¨rement important: Un nouveau cycle sâ€™installe au moment de lâ€™ar
 rivÃ©e des menstruations.Â Pour mieux le vivre et le comprendre, pour 
 le cÃ©lÃ©brer, nous proposons un moment particulier pour fÃªter la ven
 ue des premiÃ¨res rÃ¨gles de faÃ§on mÃ©morable, enveloppante et enseig
 nante.Â Une Ã©tape marquante dans la vie dâ€™une jeune fille.Le stage 
 de deux jours et une nuit:Trois intervenantes pour guider un groupe de
  jeunes filles de faÃ§on ludique, joyeuse et rassurante.Durant ce stag
 e il y aura une partie thÃ©orique sur les phases du cycle hormonal, la
  contraception, la sexualitÃ© etc...De la danse, des jeux, des massage
 s, des histoires. Un rite de passage symbolique et plein de surprises.
 ..Â Infos pratiques :Tarifs :Â 300â‚¬/pers. les deux jours comprenant 
 la nuit en dortoirs.Â Ce stage est ouvert Ã  toutes les jeunes filles 
 nouvellement Femmes.Venez avec :Des vÃªtements rouges.Un objet qui rep
 rÃ©sente lâ€™enfance.Papiers et crayonsUne bouteille dâ€™eauDeux pique
 -nique.Un sac de couchage.Un tapis de Gym et un oreiller.Ce stage est 
 accompagnÃ© par :- ValÃ©rie Bido: Masseuse, soin Ã©nergÃ©tique du vent
 re fÃ©minin, rÃ©flexologue plantaire.- ValÃ©rie Labrousse: Sage-femme 
 libÃ©rale, Ã  orientation naturelle (mÃ©thode Billings, homÃ©opathie, 
 micro-nutrition,...), Ã©nergÃ©tique (shiatsu, qi-qong de la femme,...)
  et pratiquant des suivis gynÃ©cologiques.- Lydia Vasquez : MÃ©thodeÂ 
 Free MoonUn cadeau unique pour honorer nos filles devenant femmes.\n\n
 Pour plus d'information, aller sur https://epanews.fr/events/rite-de-p
 assage-jeunes-filles-devenant-femmes
DTSTART;TZID=Europe/Paris:20140715T100000
DTEND;TZID=Europe/Paris:20140716T170000
CATEGORIES:35
LOCATION:Bretagne
WEBSITE:http://free.moon.free.fr
URL:http://free.moon.free.fr
CONTACT:09 83 39 16 64
ORGANIZER;CN="Free Moon":https://epanews.fr/profile/1ggai5tma2xpm
ATTACH;FMTTYPE="image/jpeg":http://storage.ning.com/topology/rest/1.0/
 file/get/1663107194?profile=original
ATTENDEE;ROLE=REQ-PARTICIPANT;PARTSTAT=ACCEPTED;RSVP=TRUE;CN="Free Moo
 n":https://epanews.fr/profile/1ggai5tma2xpm
END:VEVENT
END:VCALENDAR
