BEGIN:VCALENDAR
PRODID:NingEventWidget-v1
VERSION:2.0
METHOD:PUBLISH
BEGIN:VTIMEZONE
TZID:Europe/Paris
X-LIC-LOCATION:Europe/Paris
BEGIN:DAYLIGHT
TZOFFSETFROM:+0100
TZOFFSETTO:+0200
TZNAME:CEST
DTSTART:19700329T020000
RRULE:FREQ=YEARLY;BYMONTH=3;BYDAY=-1SU
END:DAYLIGHT
BEGIN:STANDARD
TZOFFSETFROM:+0200
TZOFFSETTO:+0100
TZNAME:CET
DTSTART:19701025T030000
RRULE:FREQ=YEARLY;BYMONTH=10;BYDAY=-1SU
END:STANDARD
END:VTIMEZONE
BEGIN:VEVENT
UID:2485226:Event:150692
DTSTAMP:20260419T144033Z
SUMMARY:RÃ©veillons le guÃ©risseur qui est en nous
DESCRIPTION:La maladie apparaÃ®t dans vos Ã©nergies avant de se manife
 ster sous forme de symptÃ´mes physiques.\n\nJ'ai commencÃ© Ã  recevoir
  des soins Ã©nergÃ©tiques aprÃ¨s une grosse dÃ©pression et une perte c
 onsidÃ©rable de poids.\n\nLe rÃ©sultat fortement bÃ©nÃ©fique sur mon Ã
 ªtre physique et Ã©motionnel m'amena Ã  m'interesser d'un peu plus prÃ
 ªt Ã  cette Ã©nergie.\nJe passais les diffÃ©rents niveaux de reiki usu
 i, puis kundalini pour finir enseignante.\n\nJ'ai toujours souhaitÃ©, 
 par le contact des mains sur autrui, offrir un profond bien-Ãªtre. L'a
 cte d'amour Ã©tant pour moi de \"vouloir faire du bien, et d' apaiser 
 une douleur physique ou/et psychologique.\n\nA travers le toucher et p
 ar imposition des mains, , je commencais dÃ¨s mon plus jeune Ã¢ge Ã  m
 esurer la capacitÃ© Ã  transmettre de l'Ã©nergie et Ã  masser de faÃ§o
 n rÃ©guliÃ¨re des personnes au sein mÃªme de ma famille, pour ensuite 
 continuer vers une formation dans un institut de beautÃ©.\n\nJe poursu
 ivais seule mon aventure dans diffÃ©rents SPA et hÃ´tels de France et 
 du Maroc.\n\nAujourdh'ui, je continue Ã  exercer en soins et massages 
 Ã©nergÃ©tiques Ã  Nice\n\nJe sais que chacun d'entre nous avons ce pot
 entiel Ã©nergÃ©tique . Le corps et ses Ã©nergies possÃ¨dent une intell
 igence qui ne demande quÃ  se dÃ©velopper. et je souhaite avec tout mo
 n coeur transmettre aujourd'hui mes acquis, alors je vous propose, en 
 toute simplicitÃ© des ateliers de groupe, qui vous apprendront sous fo
 rme d'exercices Ã  vous familiariser, Ã  utiliser l'Ã©nergie dans un b
 ut de guÃ©rison. Amour, patience, techniques et entraÃ®nement seront l
 es clÃ©s de votre rÃ©ussites et vous ouvriront la porte de votre coeur
 , de votre ressenti.\n\nATELIERS PROPOSES LE :\n\nDimanche 14 novembre
  2010\n\nParticipation : 65 euros la journÃ©e (de 10h30 Ã  17h30)\n\nP
 rÃ©voir tenue confortable, notes et petit dÃ©jeuner..\nPour inscriptio
 n joindre CÃ©line au 0662880669\n\nou par mail celinetanier@hotmail.co
 m\n\n(facilitÃ© de paiement)\n\nCÃ©line TANIER\n\n\n\nThÃ©rapeute ReÃ¯
 ki - Massages Ã©nergÃ©tiques\nhttp://celinetanier.spaces.live.com\n\nP
 our plus d'information, aller sur https://epanews.fr/events/reveillons
 -le-guerisseur-qui
DTSTART;TZID=Europe/Paris:20101114T103000
DTEND;TZID=Europe/Paris:20101114T173000
CATEGORIES:06
LOCATION:NICE CENTRE \"ASSOCIATION UN CHEMIN VERS SOI\"
WEBSITE:http://maps.google.com/maps?f=q&source=s_q&hl=fr&geocode=&q=Ni
 ce,+France+boissy+d'anglas&sll=43.703427,7.266266&sspn=0.224865,0.6145
 48&g=Nice,+France&ie=UTF8&hq=&hnear=Rue+Boissy+d'Anglas,+06000+Nice,+A
 lpes-Maritimes,+Provence-Alpes-C%C3%B4te+d'Azur,+France&ll=43.706663,7
 .273293&spn=0.028107,0.076818&z=14
URL:http://maps.google.com/maps?f=q&source=s_q&hl=fr&geocode=&q=Nice,+
 France+boissy+d'anglas&sll=43.703427,7.266266&sspn=0.224865,0.614548&g
 =Nice,+France&ie=UTF8&hq=&hnear=Rue+Boissy+d'Anglas,+06000+Nice,+Alpes
 -Maritimes,+Provence-Alpes-C%C3%B4te+d'Azur,+France&ll=43.706663,7.273
 293&spn=0.028107,0.076818&z=14
CONTACT:0662880669
ORGANIZER;CN="CÃ©line TANIER":https://epanews.fr/profile/TANIERCeline
ATTACH;FMTTYPE="image/jpeg":http://storage.ning.com/topology/rest/1.0/
 file/get/1662358767?profile=original
ATTENDEE;ROLE=REQ-PARTICIPANT;PARTSTAT=ACCEPTED;RSVP=TRUE;CN="CÃ©line 
 TANIER":https://epanews.fr/profile/TANIERCeline
END:VEVENT
END:VCALENDAR
