BEGIN:VCALENDAR
PRODID:NingEventWidget-v1
VERSION:2.0
METHOD:PUBLISH
BEGIN:VTIMEZONE
TZID:Europe/Paris
X-LIC-LOCATION:Europe/Paris
BEGIN:DAYLIGHT
TZOFFSETFROM:+0100
TZOFFSETTO:+0200
TZNAME:CEST
DTSTART:19700329T020000
RRULE:FREQ=YEARLY;BYMONTH=3;BYDAY=-1SU
END:DAYLIGHT
BEGIN:STANDARD
TZOFFSETFROM:+0200
TZOFFSETTO:+0100
TZNAME:CET
DTSTART:19701025T030000
RRULE:FREQ=YEARLY;BYMONTH=10;BYDAY=-1SU
END:STANDARD
END:VTIMEZONE
BEGIN:VEVENT
UID:2485226:Event:38158
DTSTAMP:20260421T144848Z
SUMMARY:RÃ©union Ã‰panews Montpellier
DESCRIPTION:Le rÃ©seau Ã©panews rencontre un grand succÃ¨s. C'est le m
 oment de nous rencontrer \"en chair et en os\" !\n\nLâ€™objectif de ce
 tte rÃ©union et de permettre aux personnes de se rencontrer localement
  et de construire un projet pour le rÃ©seau Ã©panews en fonction des d
 Ã©sirs et des disponibilitÃ©s de chacun.\n\nCette rÃ©union est ouverte
  Ã  tous. C'est gratuit et il nâ€™est pas nÃ©cessaire dâ€™Ãªtre membre
  de lâ€™association pour y participer.\n\nApporter quelque chose Ã  ma
 nger et Ã  boire ; nous partagerons sur le mode du buffet. Un jus de f
 ruit sera mieux qu'une boisson alcoolisÃ©e pour rester concentrÃ© :-)\
 n\n\nNous sommes trÃ¨s gentiment accueillir par le Centre de l'arbre q
 ui a une trÃ¨s belle salle Ã  Montpellier.\n\nPour les autres rÃ©union
 s Ã©panews voir :\nRÃ©unions Marseille Montpellier Paris\n\nPour plus 
 d'information, aller sur https://epanews.fr/events/reunion-epanews-mon
 tpellier
DTSTART;TZID=Europe/Paris:20100411T120000
DTEND;TZID=Europe/Paris:20100411T180000
CATEGORIES:34, 30
LOCATION:Centre de l'arbre
WEBSITE:http://centredelarbre.over-blog.com/
URL:http://centredelarbre.over-blog.com/
CONTACT:06 67 74 18 18 / 09 54 49 11 79
ORGANIZER;CN=Ã©panews:https://epanews.fr/profile/association_epanews
ATTACH;FMTTYPE="image/jpeg":http://storage.ning.com/topology/rest/1.0/
 file/get/1662292357?profile=original
ATTENDEE;ROLE=REQ-PARTICIPANT;PARTSTAT=ACCEPTED;RSVP=TRUE;CN=attisso:h
 ttps://epanews.fr/profile/attisso
ATTENDEE;ROLE=REQ-PARTICIPANT;PARTSTAT=ACCEPTED;RSVP=TRUE;CN="Franck D
 agorn":https://epanews.fr/profile/FranckDagorn
ATTENDEE;ROLE=REQ-PARTICIPANT;PARTSTAT=ACCEPTED;RSVP=TRUE;CN="Eric LAN
 GARET":https://epanews.fr/profile/EricLANGARET
ATTENDEE;ROLE=REQ-PARTICIPANT;PARTSTAT=ACCEPTED;RSVP=TRUE;CN="FranÃ§oi
 s Casteras":https://epanews.fr/profile/FrancoisCasteras
ATTENDEE;ROLE=REQ-PARTICIPANT;PARTSTAT=ACCEPTED;RSVP=TRUE;CN=Lalayati:
 https://epanews.fr/profile/LEVEQUE
ATTENDEE;ROLE=REQ-PARTICIPANT;PARTSTAT=ACCEPTED;RSVP=TRUE;CN="Marie BÃ
 ©nÃ©dicte Lemaire":https://epanews.fr/profile/MarieBenedicteLemaire
ATTENDEE;ROLE=REQ-PARTICIPANT;PARTSTAT=ACCEPTED;RSVP=TRUE;CN=interstit
 iel:https://epanews.fr/profile/interstitiel
ATTENDEE;ROLE=REQ-PARTICIPANT;PARTSTAT=ACCEPTED;RSVP=TRUE;CN=Aresquier
 s34:https://epanews.fr/profile/VALLA
ATTENDEE;ROLE=REQ-PARTICIPANT;PARTSTAT=ACCEPTED;RSVP=TRUE;CN=Ambroise:
 https://epanews.fr/profile/Ambroise
ATTENDEE;ROLE=REQ-PARTICIPANT;PARTSTAT=ACCEPTED;RSVP=TRUE;CN="karine m
 olinier":https://epanews.fr/profile/karinemolinier
ATTENDEE;ROLE=REQ-PARTICIPANT;PARTSTAT=ACCEPTED;RSVP=TRUE;CN=Muriel:ht
 tps://epanews.fr/profile/Muriel
ATTENDEE;ROLE=REQ-PARTICIPANT;PARTSTAT=ACCEPTED;RSVP=TRUE;CN="BOYER Fr
 anÃ§oise":https://epanews.fr/profile/BOYERFrancoise
ATTENDEE;ROLE=REQ-PARTICIPANT;PARTSTAT=ACCEPTED;RSVP=TRUE;CN=Ã©panews:
 https://epanews.fr/profile/association_epanews
ATTENDEE;ROLE=REQ-PARTICIPANT;PARTSTAT=TENTATIVE;RSVP=TRUE;CN="Franc S
 oi":https://epanews.fr/profile/hedomiste
ATTENDEE;ROLE=REQ-PARTICIPANT;PARTSTAT=TENTATIVE;RSVP=TRUE;CN="Alice V
 errier":https://epanews.fr/profile/VERRIER
ATTENDEE;ROLE=REQ-PARTICIPANT;PARTSTAT=TENTATIVE;RSVP=TRUE;CN="bigeard
  patrick":https://epanews.fr/profile/bigeardpatrick
ATTENDEE;ROLE=REQ-PARTICIPANT;PARTSTAT=TENTATIVE;RSVP=TRUE;CN="marie j
 osÃ© arguelles":https://epanews.fr/profile/mariejosearguelles
ATTENDEE;ROLE=REQ-PARTICIPANT;PARTSTAT=TENTATIVE;RSVP=TRUE;CN=babou:ht
 tps://epanews.fr/profile/babou
ATTENDEE;ROLE=REQ-PARTICIPANT;PARTSTAT=TENTATIVE;RSVP=TRUE;CN="Associa
 tion ESPACE BHÃƒVANÃƒ":https://epanews.fr/profile/AssociationESPACEBHA
 VANA
ATTENDEE;ROLE=REQ-PARTICIPANT;PARTSTAT=TENTATIVE;RSVP=TRUE;CN="MÃ©lusi
 ne Rose":https://epanews.fr/profile/MelusineRose
END:VEVENT
END:VCALENDAR
