BEGIN:VCALENDAR
PRODID:NingEventWidget-v1
VERSION:2.0
METHOD:PUBLISH
BEGIN:VTIMEZONE
TZID:Europe/Paris
X-LIC-LOCATION:Europe/Paris
BEGIN:DAYLIGHT
TZOFFSETFROM:+0100
TZOFFSETTO:+0200
TZNAME:CEST
DTSTART:19700329T020000
RRULE:FREQ=YEARLY;BYMONTH=3;BYDAY=-1SU
END:DAYLIGHT
BEGIN:STANDARD
TZOFFSETFROM:+0200
TZOFFSETTO:+0100
TZNAME:CET
DTSTART:19701025T030000
RRULE:FREQ=YEARLY;BYMONTH=10;BYDAY=-1SU
END:STANDARD
END:VTIMEZONE
BEGIN:VEVENT
UID:2485226:Event:128538
DTSTAMP:20260419T164017Z
SUMMARY:Réunion épanews Marseille
DESCRIPTION:Le réseau épanews vient de passer le cap des 2000 membre
 s ! Avec 219 membres dans le Bouches du Rhône, c’est le moment de r
 elancer le réseau à Marseille ! Après la trêve estivale, retrouvon
 s-nous au centre de Marseille dans la très jolie salle que Carol met 
 gracieusement à notre disposition. Au programme, échanges, partage e
 t petit buffet partagé :-)\n\nL’objectif de cette réunion et de pe
 rmettre aux personnes de se rencontrer localement et de construire un 
 projet pour le réseau épanews en fonction des désirs et des disponi
 bilités de chacun.\nCette rencontre est ouverte à tous. C'est gratui
 t et il n’est pas nécessaire d’être membre de l’association po
 ur y participer.\n\nNous prévoyons un moment pour se présenter ou po
 ur faire une annonce (si vous avez un projet qui peut intéresser les 
 autres par exemple) et un autre moment pour parler du réseau social, 
 du site et du séjour en Ardèche (retour sur 2010 et projet pour 2011
 ).\n\nPour la convivialité, nous voudrions avoir quelques proposition
 s d'activité. Avez-vous quelque chose à proposer ? Nous cherchons qu
 elque chose de court, de dynamique, de fédérateur (pas trop spécifi
 que) et faisant de préférence appel au corps plutôt qu’à la réf
 lexion : mouvement, touché, voix, etc. Faites vos propositions en com
 mentaire ci-dessous.\n\nApporter quelque chose à manger ou à boire ;
  nous partagerons sur le mode du buffet. Un jus de fruit sera mieux qu
 'une boisson alcoolisée pour rester lucide :-)\n___\nPour venir : son
 ner à l'interphone \"VERGER ROCHETTE\"\n4ième étage\n\nPour plus d'
 information, aller sur https://epanews.fr/events/reunion-epanews-marse
 ille-1
DTSTART;TZID=Europe/Paris:20101108T183000
DTEND;TZID=Europe/Paris:20101108T213000
CATEGORIES:13
LOCATION:Centre du Mont 13006 Marseille
WEBSITE:http://maps.google.com/?saddr=&daddr=8,+Rue+des+Trois+Fr%C3%A8
 res+Barth%C3%A9lemy,+13006+6%C3%A8me+Arrondissement,+Marseille,+France
 &ie=UTF8&z=16
URL:http://maps.google.com/?saddr=&daddr=8,+Rue+des+Trois+Fr%C3%A8res+
 Barth%C3%A9lemy,+13006+6%C3%A8me+Arrondissement,+Marseille,+France&ie=
 UTF8&z=16
CONTACT:0667741818
ORGANIZER;CN=épanews:https://epanews.fr/profile/association_epanews
ATTACH;FMTTYPE="image/jpeg":http://storage.ning.com/topology/rest/1.0/
 file/get/1662346749?profile=original
ATTENDEE;ROLE=REQ-PARTICIPANT;PARTSTAT=ACCEPTED;RSVP=TRUE;CN=Prajna13:
 https://epanews.fr/profile/prajna13
ATTENDEE;ROLE=REQ-PARTICIPANT;PARTSTAT=ACCEPTED;RSVP=TRUE;CN=mloul:htt
 ps://epanews.fr/profile/mloul
ATTENDEE;ROLE=REQ-PARTICIPANT;PARTSTAT=ACCEPTED;RSVP=TRUE;CN="Marilou 
 coach d 'éveil énergie":https://epanews.fr/profile/Marilou
ATTENDEE;ROLE=REQ-PARTICIPANT;PARTSTAT=ACCEPTED;RSVP=TRUE;CN=Ambroise:
 https://epanews.fr/profile/Ambroise
ATTENDEE;ROLE=REQ-PARTICIPANT;PARTSTAT=ACCEPTED;RSVP=TRUE;CN="frederiq
 ue beaurepaire":https://epanews.fr/profile/frederiquebeaurepaire
ATTENDEE;ROLE=REQ-PARTICIPANT;PARTSTAT=ACCEPTED;RSVP=TRUE;CN="Rouzaud 
 Faïrouz":https://epanews.fr/profile/RouzaudFairouz
ATTENDEE;ROLE=REQ-PARTICIPANT;PARTSTAT=ACCEPTED;RSVP=TRUE;CN="la menes
 trelle":https://epanews.fr/profile/lamenestrelle
ATTENDEE;ROLE=REQ-PARTICIPANT;PARTSTAT=ACCEPTED;RSVP=TRUE;CN="Fred Mar
 s":https://epanews.fr/profile/FredMars
ATTENDEE;ROLE=REQ-PARTICIPANT;PARTSTAT=ACCEPTED;RSVP=TRUE;CN="Eliane L
 heureux":https://epanews.fr/profile/ElianeLheureux
ATTENDEE;ROLE=REQ-PARTICIPANT;PARTSTAT=ACCEPTED;RSVP=TRUE;CN=djordjiki
 a:https://epanews.fr/profile/djordjikia
ATTENDEE;ROLE=REQ-PARTICIPANT;PARTSTAT=ACCEPTED;RSVP=TRUE;CN=épanews:
 https://epanews.fr/profile/association_epanews
ATTENDEE;ROLE=REQ-PARTICIPANT;PARTSTAT=TENTATIVE;RSVP=TRUE;CN=elydise:
 https://epanews.fr/profile/elydise
ATTENDEE;ROLE=REQ-PARTICIPANT;PARTSTAT=TENTATIVE;RSVP=TRUE;CN=chrisian
 ber:https://epanews.fr/profile/christianber
ATTENDEE;ROLE=REQ-PARTICIPANT;PARTSTAT=TENTATIVE;RSVP=TRUE;CN="Yolande
  Bourillot":https://epanews.fr/profile/bourillot
ATTENDEE;ROLE=REQ-PARTICIPANT;PARTSTAT=TENTATIVE;RSVP=TRUE;CN=VERGER:h
 ttps://epanews.fr/profile/VERGER
ATTENDEE;ROLE=REQ-PARTICIPANT;PARTSTAT=TENTATIVE;RSVP=TRUE;CN=rorob13:
 https://epanews.fr/profile/rorob13
ATTENDEE;ROLE=REQ-PARTICIPANT;PARTSTAT=TENTATIVE;RSVP=TRUE;CN=mumucast
 agnette:https://epanews.fr/profile/mumucastagnette
ATTENDEE;ROLE=REQ-PARTICIPANT;PARTSTAT=TENTATIVE;RSVP=TRUE;CN=Anne:htt
 ps://epanews.fr/profile/Anne
END:VEVENT
END:VCALENDAR
