BEGIN:VCALENDAR
PRODID:NingEventWidget-v1
VERSION:2.0
METHOD:PUBLISH
BEGIN:VTIMEZONE
TZID:Europe/Paris
X-LIC-LOCATION:Europe/Paris
BEGIN:DAYLIGHT
TZOFFSETFROM:+0100
TZOFFSETTO:+0200
TZNAME:CEST
DTSTART:19700329T020000
RRULE:FREQ=YEARLY;BYMONTH=3;BYDAY=-1SU
END:DAYLIGHT
BEGIN:STANDARD
TZOFFSETFROM:+0200
TZOFFSETTO:+0100
TZNAME:CET
DTSTART:19701025T030000
RRULE:FREQ=YEARLY;BYMONTH=10;BYDAY=-1SU
END:STANDARD
END:VTIMEZONE
BEGIN:VEVENT
UID:2485226:Event:1326754
DTSTAMP:20260420T010227Z
SUMMARY:Reunion du Reseau d'Echanges de Savoirs
DESCRIPTION:L'association Horizon Multimédia organise dans ses locaux
  une réunion de découverte du Réseau d’Echanges de Savoirs afin d
 e découvrir son fonctionnement et faire connaissance avec ses membres
  et pourquoi pas vous joindre à nous !\nCette réunion se déroulera 
 sous la forme d'un apéro \"Auberge Espagnole\" ou chacun ramène un p
 etit quelque chose à partager.\nN'hésitez pas à venir découvrir ce
  concept d'échange, le 7 Mai à 18h au siège de l'association. Zone 
 Commerciale de La Valette, Parc St Clair à côté du Frenchy Wok au d
 essus du magasin de Jacuzzi.\nPensez à signaler votre venu ici, par t
 éléphone: 04.94.61.04.01 ou par e-mail: info@horizonm.fr\n\n\n\n\nPo
 ur plus d'information, aller sur https://epanews.fr/events/reunion-du-
 reseau-d-echanges-de-savoirs
DTSTART;TZID=Europe/Paris:20130507T180000
DTEND;TZID=Europe/Paris:20130507T193000
CATEGORIES:83
LOCATION:Association Horizon Multimédia
WEBSITE:http://www.horizonm.fr/index.php/pole-formation/eoep/res
URL:http://www.horizonm.fr/index.php/pole-formation/eoep/res
CONTACT:0494610401
ORGANIZER;CN="So Blacky":https://epanews.fr/profile/BS
ATTACH;FMTTYPE="image/jpeg":http://storage.ning.com/topology/rest/1.0/
 file/get/1662818442?profile=original
ATTENDEE;ROLE=REQ-PARTICIPANT;PARTSTAT=ACCEPTED;RSVP=TRUE;CN=Flore:htt
 ps://epanews.fr/profile/Flore550
ATTENDEE;ROLE=REQ-PARTICIPANT;PARTSTAT=ACCEPTED;RSVP=TRUE;CN="So Black
 y":https://epanews.fr/profile/BS
END:VEVENT
END:VCALENDAR
