BEGIN:VCALENDAR
PRODID:NingEventWidget-v1
VERSION:2.0
METHOD:PUBLISH
BEGIN:VTIMEZONE
TZID:Europe/Paris
X-LIC-LOCATION:Europe/Paris
BEGIN:DAYLIGHT
TZOFFSETFROM:+0100
TZOFFSETTO:+0200
TZNAME:CEST
DTSTART:19700329T020000
RRULE:FREQ=YEARLY;BYMONTH=3;BYDAY=-1SU
END:DAYLIGHT
BEGIN:STANDARD
TZOFFSETFROM:+0200
TZOFFSETTO:+0100
TZNAME:CET
DTSTART:19701025T030000
RRULE:FREQ=YEARLY;BYMONTH=10;BYDAY=-1SU
END:STANDARD
END:VTIMEZONE
BEGIN:VEVENT
UID:2485226:Event:2212247
DTSTAMP:20260423T151043Z
SUMMARY:Retrouvez votre conscience universelle et votre vÃ©ritable but
  suprÃªme
DESCRIPTION:Dans cet atelier EXPÃ‰RIENTIEL, vous apprendrez Ã  :  â€¢ 
 Aligner votre Ã©nergie correctement pour recevoir plus clairement la g
 uidance sur votre vÃ©ritable but universel â€¢ Comprendre votre vraie 
 Conscience Universelle : comment y accÃ©der, comment ÃŠTRE cette consc
 ience et comment lâ€™utiliser dans votre travail quotidien et votre tr
 avail artistique et crÃ©atif. â€¢ Comprendre votre contrat prÃ©natal, 
 votre rÃ´le dans la Conscience Collective et dans lâ€™Ã©volution de lâ
 €™humanitÃ© â€¢ Utiliser votre cerveau Ã  100% et faire lâ€™Ã©quilibre
  entre votre travail sur Terre et votre but divin.  Pour vous inscrire
 : http://www.omniumuniverse.com/Francais/Agenda/2015/6/  Infos: office
 @omniumuniverse.com\n\nPour plus d'information, aller sur https://epan
 ews.fr/events/retrouvez-votre-conscience-universelle-et-votre-v-ritabl
 e-but
DTSTART;TZID=Europe/Paris:20150627T140000
DTEND;TZID=Europe/Paris:20150628T180000
CATEGORIES:11
LOCATION:ChÃ¢teau de PÃ©nnautier, Carcassonne
WEBSITE:http://www.omniumuniverse.com/Francais/Agenda/2015/6/
URL:http://www.omniumuniverse.com/Francais/Agenda/2015/6/
CONTACT:
ORGANIZER:OMnium email: office@omniumuniverse.com
ATTACH;FMTTYPE="image/jpeg":http://storage.ning.com/topology/rest/1.0/
 file/get/1663318727?profile=original
ATTENDEE;ROLE=REQ-PARTICIPANT;PARTSTAT=ACCEPTED;RSVP=TRUE;CN=OMnium:ht
 tps://epanews.fr/profile/OMnium
END:VEVENT
END:VCALENDAR
