BEGIN:VCALENDAR
PRODID:NingEventWidget-v1
VERSION:2.0
METHOD:PUBLISH
BEGIN:VTIMEZONE
TZID:Europe/Paris
X-LIC-LOCATION:Europe/Paris
BEGIN:DAYLIGHT
TZOFFSETFROM:+0100
TZOFFSETTO:+0200
TZNAME:CEST
DTSTART:19700329T020000
RRULE:FREQ=YEARLY;BYMONTH=3;BYDAY=-1SU
END:DAYLIGHT
BEGIN:STANDARD
TZOFFSETFROM:+0200
TZOFFSETTO:+0100
TZNAME:CET
DTSTART:19701025T030000
RRULE:FREQ=YEARLY;BYMONTH=10;BYDAY=-1SU
END:STANDARD
END:VTIMEZONE
BEGIN:VEVENT
UID:2485226:Event:2562425
DTSTAMP:20260421T151642Z
SUMMARY:Retrouver ses axes
DESCRIPTION:Venez le temps d'un week-end retrouvez vos axes :celui de 
 la verticalité avec un atelier de ré-équilibrage postural, de trava
 il sur la respiration et sur la mobilité articulaire avec Sylvain nat
 uropathe et ostéopathe.Celui de \"l'horizontalité\" avec un atelier 
 de constellations familiales: s'assurer du soutien de ses ancêtres et
  de sa place dans la famille traditionnelle et actuelle avec Marianne 
 art thérapeute formée à cette approche.\nprix 130 euros hébergemen
 t+ ateliers+repas en gestion libre.\n\nPour plus d'information, aller 
 sur https://epanews.fr/events/retrouver-ses-axes
DTSTART;TZID=Europe/Paris:20160219T180000
DTEND;TZID=Europe/Paris:20160221T190000
CATEGORIES:26
LOCATION:drôme
WEBSITE:
URL:
CONTACT:0475443161
ORGANIZER;CN=marianne:https://epanews.fr/profile/marianne86
ATTACH;FMTTYPE="image/jpeg":http://storage.ning.com/topology/rest/1.0/
 file/get/1663519407?profile=original
ATTENDEE;ROLE=REQ-PARTICIPANT;PARTSTAT=ACCEPTED;RSVP=TRUE;CN=marianne:
 https://epanews.fr/profile/marianne86
END:VEVENT
END:VCALENDAR
