BEGIN:VCALENDAR
PRODID:NingEventWidget-v1
VERSION:2.0
METHOD:PUBLISH
BEGIN:VTIMEZONE
TZID:Europe/Paris
X-LIC-LOCATION:Europe/Paris
BEGIN:DAYLIGHT
TZOFFSETFROM:+0100
TZOFFSETTO:+0200
TZNAME:CEST
DTSTART:19700329T020000
RRULE:FREQ=YEARLY;BYMONTH=3;BYDAY=-1SU
END:DAYLIGHT
BEGIN:STANDARD
TZOFFSETFROM:+0200
TZOFFSETTO:+0100
TZNAME:CET
DTSTART:19701025T030000
RRULE:FREQ=YEARLY;BYMONTH=10;BYDAY=-1SU
END:STANDARD
END:VTIMEZONE
BEGIN:VEVENT
UID:2485226:Event:1240080
DTSTAMP:20260421T171903Z
SUMMARY:Retraite Zen : «Sesshin de printemps»
DESCRIPTION:La pratique de la retraite « Sesshin » selon les règl
 es Soto Zen des temples japonais, c’est :\n\nZazen : méditation as
 sise sans objet\nSamu : méditation dans l’action\nSutras : conscien
 ce du souffle durant la vocalisation\nOryoki : repas pris à la maniè
 re des cérémonies du thé\nKin hin : marche méditative très lente\
 nPromenades en extérieur\nUn quotidien à la fois ordinaire et extra-
 ordinaire.\nL’énergie du moment présent partagée dans la paix et 
 le calme.\nLa pratique de la vie quotidienne dans l’Unité.\nUnité 
 en soi-même, et avec tous les êtres…\n\nSimplement percevoir par l
 a méditation,\nrespiration après respiration,\npas après pas, bouch
 ée après bouchée,\nque l’existence est simple\ndans l’expérien
 ce d’ « Ici/Maintenant ».\nL’expérience du Zen.\nPlus de dét
 ails.\n 100€  Tout compris : gite, couvert, activités.\nRenseign
 ements et/ou inscription.\n\nPour plus d'information, aller sur https:
 //epanews.fr/events/retraite-zen-sesshin-de-printents
DTSTART;TZID=Europe/Paris:20130509T183000
DTEND;TZID=Europe/Paris:20130512T150000
CATEGORIES:tous
LOCATION:Zenergym
WEBSITE:http://goo.gl/maps/KzYo9
URL:http://goo.gl/maps/KzYo9
CONTACT:06 77 99 62 72
ORGANIZER;CN="Denis Zenergym":https://epanews.fr/profile/DenisZenergym
ATTACH;FMTTYPE="image/jpeg":http://storage.ning.com/topology/rest/1.0/
 file/get/1662785618?profile=original
ATTENDEE;ROLE=REQ-PARTICIPANT;PARTSTAT=ACCEPTED;RSVP=TRUE;CN="Denis Ze
 nergym":https://epanews.fr/profile/DenisZenergym
ATTENDEE;ROLE=REQ-PARTICIPANT;PARTSTAT=TENTATIVE;RSVP=TRUE;CN=Fabienne
 :https://epanews.fr/profile/grellierfabienne
END:VEVENT
END:VCALENDAR
