BEGIN:VCALENDAR
PRODID:NingEventWidget-v1
VERSION:2.0
METHOD:PUBLISH
BEGIN:VTIMEZONE
TZID:Europe/Paris
X-LIC-LOCATION:Europe/Paris
BEGIN:DAYLIGHT
TZOFFSETFROM:+0100
TZOFFSETTO:+0200
TZNAME:CEST
DTSTART:19700329T020000
RRULE:FREQ=YEARLY;BYMONTH=3;BYDAY=-1SU
END:DAYLIGHT
BEGIN:STANDARD
TZOFFSETFROM:+0200
TZOFFSETTO:+0100
TZNAME:CET
DTSTART:19701025T030000
RRULE:FREQ=YEARLY;BYMONTH=10;BYDAY=-1SU
END:STANDARD
END:VTIMEZONE
BEGIN:VEVENT
UID:2485226:Event:3022555
DTSTAMP:20260425T010728Z
SUMMARY:Retraite Yoga
DESCRIPTION:Dans un lieu serein chargÃ© d'une belle et douce Ã©nergie,
  Venez passer 7 jours de ressourcement, de silence etÂ  de connexion a
 vec vous- mÃªme. Deux heures de pratique de Yoga le matin et deux heur
 es le soir. Cette retraite sera lâ€™occasion de vous reconnecter Ã  vo
 us-mÃªme loin de toutes turbulences extÃ©rieures. Nogaret est un lieu 
 magique, magnifique ou le temps semble sâ€™Ãªtre arrÃªtÃ© lÃ â€¦â€¦.Du
 rant ces 7 jours, nous ferons du Yoga Asanas/ mÃ©ditation tousÂ les ma
 tins au lever du soleil, suivra le petit dÃ©jeuner. Nous irons en ball
 ade consciente les sentiers ne manquent pas, nous pique- niquerons tou
 s les jours si le temps le permet. Le but Ã©tant de profiter le plus p
 ossible de mÃ¨re nature et se relier aux Ã©lÃ©ments .\nL'aprÃ¨s-midi n
 ous profiterons d'un moment pour soi, puis un atelier thÃ©rapeutique (
 Mandalas mÃ©ditation, Ã©criture, au fil de l'eau et au feeling des Ã©n
 ergies) , ou dÃ©battre sur un thÃ¨me philosophique sur le Yoga.\nEn fi
 n d'aprÃ¨s-midi Yoga Asanas, Pranayama, relaxation ou mÃ©ditation.\nDÃ
 ®ner partage et doux rÃªves.Â ArrivÃ©e samedi 20 Juillet Ã  9H00 â€“ d
 Ã©part vendredi 26 Ã  16H00.Le plus possible de silence, le moins poss
 ible de portableÂ !. Nous participerons aux tÃ¢ches quotidiennes Les r
 epas seront vÃ©gÃ©tariens et fournis Je vous accompagnerai tout au lon
 g de cette retraite pour que vous puissiez apprÃ©cier l'art du silence
  au cÅ“ur de soi. Lieu : Association Les amis de Nogaret34650 Roquered
 onne( au dessus de LodÃ©ve)Site : www.amisdenogaret.fr TARIFS : 537â‚¬
  -Enseignement : 340â‚¬ les 7 jours plus 10â‚¬ dâ€™adhÃ©sion Ã  lâ€™as
 sociation Mandala Yoga (chÃ¨que au nom de l'association Mandala Yoga)\
 nwww.yoga-ayurveda-agde.fr\n-HÃ©bergement : 197 â‚¬ 7 nuitÃ©es- repas 
 compris et cotisation de 5â‚¬ Ã  lâ€™association les amis de Nogaret (
 chÃ¨que Ã  l'ordre de association les amis de Nogaret)\nUn chÃ©que d'a
 compte de 150â‚¬ est demandÃ© non remboursable si annulation une semai
 ne avant Ã  lâ€™ordre de Association Mandala yoga\nLes inscriptions se
 ront validÃ©es aprÃ¨s rÃ©ception du chÃ©que dâ€™acompte.\nles amis de 
 Nogaret Roqueredonde france\nTÃ©lÃ©phone : 0632047946\n\nPour plus d'i
 nformation, aller sur https://epanews.fr/events/retraite-yoga-1
DTSTART;TZID=Europe/Paris:20190720T090000
DTEND;TZID=Europe/Paris:20190726T160000
CATEGORIES:tous
LOCATION:Roqueredonde
WEBSITE:http://www.yoga-ayurveda-agde.fr
URL:http://www.yoga-ayurveda-agde.fr
CONTACT:0632047946
ORGANIZER;CN="Satya Granet":https://epanews.fr/profile/satya
ATTACH;FMTTYPE="image/jpeg":https://storage.ning.com/topology/rest/1.0
 /file/get/1948056168?profile=original
ATTENDEE;ROLE=REQ-PARTICIPANT;PARTSTAT=ACCEPTED;RSVP=TRUE;CN="Satya Gr
 anet":https://epanews.fr/profile/satya
END:VEVENT
END:VCALENDAR
