BEGIN:VCALENDAR
PRODID:NingEventWidget-v1
VERSION:2.0
METHOD:PUBLISH
BEGIN:VTIMEZONE
TZID:Europe/Paris
X-LIC-LOCATION:Europe/Paris
BEGIN:DAYLIGHT
TZOFFSETFROM:+0100
TZOFFSETTO:+0200
TZNAME:CEST
DTSTART:19700329T020000
RRULE:FREQ=YEARLY;BYMONTH=3;BYDAY=-1SU
END:DAYLIGHT
BEGIN:STANDARD
TZOFFSETFROM:+0200
TZOFFSETTO:+0100
TZNAME:CET
DTSTART:19701025T030000
RRULE:FREQ=YEARLY;BYMONTH=10;BYDAY=-1SU
END:STANDARD
END:VTIMEZONE
BEGIN:VEVENT
UID:2485226:Event:1313112
DTSTAMP:20260420T085221Z
SUMMARY:retraite spirituelle au vanuatu
DESCRIPTION:La maison de Babaji, organise un stage spirituelle de 4 jo
 urs, yoga, méditation, loi d'attraction, méditation: comment se mani
 fester, causerie spiritualités orientales, randonnées, art thérapie
 , transmission des enseignements de Chopra, Dyer, Debbie Ford, une jou
 rnée découverte de l'ile en bus, soirée traditionnelle avec la dans
 e du feu et mantra de babaji. Cuisine traditionnelle sur feu de pierre
 s volcaniques végétarienne ou non. Envoyer un mail pour recevoir le 
 document du programme complet.\n\nPour plus d'information, aller sur h
 ttps://epanews.fr/events/retraite-spirituelle-au-vanuatu
DTSTART;TZID=Europe/Paris:20130506T000000
DTEND;TZID=Europe/Paris:20130509T235900
CATEGORIES:vanuatu
LOCATION:ile d'efate, bukura, port vila, Vanuatu
WEBSITE:
URL:
CONTACT:00 678 7795486
ORGANIZER;CN="Véronique Maison de Babaji":https://epanews.fr/profile/
 VeroniqueMaisondeBabaji
ATTACH;FMTTYPE="image/jpeg":
ATTENDEE;ROLE=REQ-PARTICIPANT;PARTSTAT=ACCEPTED;RSVP=TRUE;CN="Véroniq
 ue Maison de Babaji":https://epanews.fr/profile/VeroniqueMaisondeBabaj
 i
END:VEVENT
END:VCALENDAR
