BEGIN:VCALENDAR
PRODID:NingEventWidget-v1
VERSION:2.0
METHOD:PUBLISH
BEGIN:VTIMEZONE
TZID:Europe/Paris
X-LIC-LOCATION:Europe/Paris
BEGIN:DAYLIGHT
TZOFFSETFROM:+0100
TZOFFSETTO:+0200
TZNAME:CEST
DTSTART:19700329T020000
RRULE:FREQ=YEARLY;BYMONTH=3;BYDAY=-1SU
END:DAYLIGHT
BEGIN:STANDARD
TZOFFSETFROM:+0200
TZOFFSETTO:+0100
TZNAME:CET
DTSTART:19701025T030000
RRULE:FREQ=YEARLY;BYMONTH=10;BYDAY=-1SU
END:STANDARD
END:VTIMEZONE
BEGIN:VEVENT
UID:2485226:Event:3035266
DTSTAMP:20260426T021135Z
SUMMARY:Retraite silencieuse et pleine conscience 9-14 aoÃ»t 2019
DESCRIPTION:Les journÃ©es se dÃ©roulent en pleine conscience avec une 
 attention portÃ©e sur la douceur et la bienveillance dans des pratique
 s assises et marchÃ©es, ponctuÃ©es de plages dâ€™Ã©tirement, relaxatio
 n guidÃ©e et enseignement journalier. Un encadrement personnalisÃ© vou
 s aidera Ã  conduire votre propre retraite pour cultiver lâ€™esprit dâ
 €™humilitÃ© et Ã©merveillement avec harmonie et Ã©quilibre entiÃ¨remen
 t vouÃ©es Ã  lâ€™Ã©coute du guide intÃ©rieur.\n\nPour plus d'informati
 on, aller sur https://epanews.fr/events/retraite-silencieuse-et-pleine
 -conscience-9-14-ao-t-2019
DTSTART;TZID=Europe/Paris:20190809T180000
DTEND;TZID=Europe/Paris:20190814T150000
CATEGORIES:30
LOCATION:Sur le plateau de Collias dans les gorges du Gardon
WEBSITE:https://www.espace-de-silence.com/
URL:https://www.espace-de-silence.com/
CONTACT:+33 (0)6 86 69 30 55 et +33 (0)4 66 84 72 15
ORGANIZER;CN="anne soulet":https://epanews.fr/profile/annesoulet
ATTACH;FMTTYPE="image/jpeg":https://storage.ning.com/topology/rest/1.0
 /file/get/3277294373?profile=original
ATTENDEE;ROLE=REQ-PARTICIPANT;PARTSTAT=ACCEPTED;RSVP=TRUE;CN="anne sou
 let":https://epanews.fr/profile/annesoulet
END:VEVENT
END:VCALENDAR
