BEGIN:VCALENDAR
PRODID:NingEventWidget-v1
VERSION:2.0
METHOD:PUBLISH
BEGIN:VTIMEZONE
TZID:Europe/Paris
X-LIC-LOCATION:Europe/Paris
BEGIN:DAYLIGHT
TZOFFSETFROM:+0100
TZOFFSETTO:+0200
TZNAME:CEST
DTSTART:19700329T020000
RRULE:FREQ=YEARLY;BYMONTH=3;BYDAY=-1SU
END:DAYLIGHT
BEGIN:STANDARD
TZOFFSETFROM:+0200
TZOFFSETTO:+0100
TZNAME:CET
DTSTART:19701025T030000
RRULE:FREQ=YEARLY;BYMONTH=10;BYDAY=-1SU
END:STANDARD
END:VTIMEZONE
BEGIN:VEVENT
UID:2485226:Event:2931827
DTSTAMP:20260424T213058Z
SUMMARY:retraite de yoga et de mÃ©ditation
DESCRIPTION:\nDans la haute vallÃ©e de lâ€™Aude en pleine nature au ca
 lme\nÂ \nUn temps pour soi pour se recentrer faire l'expÃ©rience duÂ  
 Â  Â  Â  Â  Â  style de vie Yogique et pour lÃ¢cher prise dans uneÂ  Â
   Â  Â  Â  Â  Â  Â  Â  Â  Â atmosphÃ¨re Spirituelle\nÂ \nCours de Yoga
  intÃ©gral, une expÃ©rience scientifique qui intÃ¨gre intelligemment l
 es diffÃ©rentes branches du yoga afin de produire un dÃ©veloppement co
 mplet et harmonieux de l'individu\n\nÂ  Â Atelier d'initiation\nÂ \nÂ 
  confÃ©rence sur la santÃ© et le bien Ãªtre .\nÂ \nÂ  Â  MÃ©ditation, 
 chants de Mantras et Kirtans , pratique deÂ  Â  Â  Â  Â  Â  Â  Â  Â  Â
   Â  Â  Mauna (silence).Marche MÃ©ditative\nÂ \nÂ  Â  Â  Â  Alimentati
 on VÃ©gÃ©tarienne\nÂ  Â  Â  Â  Â logement en chambre individuel\nÂ \nÂ
   Â  Â  Â  temps libre piscine\nÂ \nÂ  Â  Â  Â  Â  Â  Places limitÃ©e 
 Ã  15 Ã©lÃ¨ves\nÂ  Â  Â  Â renseignement complÃ©mentaireÂ sur demande\
 n\n\nPour plus d'information, aller sur https://epanews.fr/events/retr
 aite-de-yoga-et-de-m-ditation-1
DTSTART;TZID=Europe/Paris:20180510T220000
DTEND;TZID=Europe/Paris:20180513T120000
CATEGORIES:11, aude
LOCATION:Centre Terra Nova - Domaine Denis 11270 St Gauderic
WEBSITE:http://www.yoga-narbonne.com
URL:http://www.yoga-narbonne.com
CONTACT:0698227022
ORGANIZER:asso surya yoga
ATTACH;FMTTYPE="image/jpeg":http://storage.ning.com/topology/rest/1.0/
 file/get/1663719758?profile=original
ATTENDEE;ROLE=REQ-PARTICIPANT;PARTSTAT=ACCEPTED;RSVP=TRUE;CN=atmaram:h
 ttps://epanews.fr/profile/atmaram
END:VEVENT
END:VCALENDAR
