BEGIN:VCALENDAR
PRODID:NingEventWidget-v1
VERSION:2.0
METHOD:PUBLISH
BEGIN:VTIMEZONE
TZID:Europe/Paris
X-LIC-LOCATION:Europe/Paris
BEGIN:DAYLIGHT
TZOFFSETFROM:+0100
TZOFFSETTO:+0200
TZNAME:CEST
DTSTART:19700329T020000
RRULE:FREQ=YEARLY;BYMONTH=3;BYDAY=-1SU
END:DAYLIGHT
BEGIN:STANDARD
TZOFFSETFROM:+0200
TZOFFSETTO:+0100
TZNAME:CET
DTSTART:19701025T030000
RRULE:FREQ=YEARLY;BYMONTH=10;BYDAY=-1SU
END:STANDARD
END:VTIMEZONE
BEGIN:VEVENT
UID:2485226:Event:2913950
DTSTAMP:20260420T214749Z
SUMMARY:Retraite de Natha yoga dans le sud LubÃ©ron
DESCRIPTION:Pour commencer l'annÃ©e en douceur, je proposeÂ un stage d
 e Natha yoga le week-end duÂ 26-28 janvierÂ en pleine natureÂ dans le 
 sud LubÃ©ron, prÃ¨s de la Tour d'Aigues.Â \nLe souffle et la visualisa
 tion seront Ã  l'honneur.Â Le stage sera orientÃ© sur la thÃ©matique d
 uÂ lÃ¢cher prise et de la confiance,Â des techniques simples que vous 
 pourrez refaire Ã  votre guise.\nÂ \nL'objectif Ã©tant d'Ã©vacuer ce q
 ui n'a plus lieu d'Ãªtre pour cette annÃ©e 2018, des tensions, des tro
 ubles de santÃ©, des incertitudes, des Ã©nergies nÃ©gatives, des mÃ©ca
 nismes ou habitudes... et se relier Ã  ce qui importe pour sa rÃ©alisa
 tion.Â \nNous aborderonsÂ postures, prÃ¢nÃ¢yÃ¢ma,Â  pratiques oculaire
 s,Â  concentrations et mÃ©ditations... mantra et nidraÂ (sommeil consc
 ient ou yoga du sommeil)\nÂ Jouer de maniÃ¨re consciente avec nos mÃ©c
 anismes intÃ©rieurs : mental, ego, conscience, Ã©nergie, intuition.\nÂ
  \nUne premiÃ¨re partie sera consacrÃ©e aux souffles de nettoyages, ba
 ndha et pratiques de feu trÃ¨s thÃ©rapeutique : pour apaiser le mental
 , Ã©vacuer les tensions, pauser un souffle prÃ¢nique, et flotter dans 
 le silence intÃ©rieur. Ces techniques ouvrent le passage vers ces espa
 ces profonds... oÃ¹ douceur et sÃ©rÃ©nitÃ© nous enveloppent.Â Â En ouv
 rant la voie du milieu, l'Ã©nergie ne se fait plus happÃ©e par la vÃ©l
 ocitÃ© de l'ego, les doutes, l'agitation du mental, mais elle est plei
 ne et disponible pour autre chose.\nCe qui permet d'aborder dans une d
 euxiÃ¨me partie des pratiques plus oniriques de silence intÃ©rieur, pl
 us subtiles, oÃ¹ il devient possible de se balader dans ces Ã©tats de 
 conscience modifiÃ©e. Comme un voyage dans nos profondeurs, cela nous 
 renseigne sur ce qui n'est pas toujours visible et pourtant prÃ©sent e
 n nous.\nÂ \nNous pratiquerons Ã©galement desÂ postures de vitalitÃ©, 
 pour retrouver ancrage, souplesse et lÃ©gÃ¨retÃ©. Des postures d'Ã©qui
 libre pour ne par perdre de vue notre axe, notre vision intÃ©rieure. E
 t des mÃ©ditations pour ressentir et visualiser les enjeux profonds de
  cette nouvelle annÃ©e.\nÂ \nTarifs\n\nStage 130â‚¬Â \nnourriture (pet
 it dÃ©j, dÃ©jeuner, goÃ»ter, dÃ®ner) : 40â‚¬/pers/jourÂ Â \nhÃ©bergeme
 nt : 25â‚¬/nuitÃ©eÂ \nFrais pour les diffÃ©rents espaces de pratique 2
 5â‚¬/persÂ \n\nÂ \nPour plus de renseignements, n'hÃ©sitez pas Ã  me c
 ontacter. Le nombre de place Ã©tant limitÃ© Ã  une dizaine de personne
 s.Â \n\nÂ \n\nPour plus d'information, aller sur https://epanews.fr/ev
 ents/retraite-de-natha-yoga-dans-le-sud-lub-ron
DTSTART;TZID=Europe/Paris:20180126T180000
DTEND;TZID=Europe/Paris:20180128T170000
CATEGORIES:84
LOCATION:La Tour d'Aigues
WEBSITE:
URL:
CONTACT:0669492506
ORGANIZER;CN=Ghatika:https://epanews.fr/profile/Ghatika
ATTACH;FMTTYPE="image/jpeg":
ATTENDEE;ROLE=REQ-PARTICIPANT;PARTSTAT=ACCEPTED;RSVP=TRUE;CN=Ghatika:h
 ttps://epanews.fr/profile/Ghatika
END:VEVENT
END:VCALENDAR
