BEGIN:VCALENDAR
PRODID:NingEventWidget-v1
VERSION:2.0
METHOD:PUBLISH
BEGIN:VTIMEZONE
TZID:Europe/Paris
X-LIC-LOCATION:Europe/Paris
BEGIN:DAYLIGHT
TZOFFSETFROM:+0100
TZOFFSETTO:+0200
TZNAME:CEST
DTSTART:19700329T020000
RRULE:FREQ=YEARLY;BYMONTH=3;BYDAY=-1SU
END:DAYLIGHT
BEGIN:STANDARD
TZOFFSETFROM:+0200
TZOFFSETTO:+0100
TZNAME:CET
DTSTART:19701025T030000
RRULE:FREQ=YEARLY;BYMONTH=10;BYDAY=-1SU
END:STANDARD
END:VTIMEZONE
BEGIN:VEVENT
UID:2485226:Event:1109749
DTSTAMP:20260423T141944Z
SUMMARY:Retraite de méditation zen : «Sesshin d'hiver»
DESCRIPTION:La pratique de la retraite « Sesshin » selon les règles
  Soto Zen, c’est :  •  Zazen (méditation assise sans objet)  •
   Samu (méditation dans l’action)  •  Sutras (conscience du sou
 ffle et des vibrations de vocalisation)  •  Repas (prendre les repa
 s selon un rituel similaire aux cérémonies du thé)  •  Marche (k
 in hin, promenades à l’aube et au couchant, randonnée en forêt…
   Un quotidien à la fois ordinaire et extra-ordinaire…  L’énergi
 e du moment présent partagée dans la paix et le calme.  La pratique 
 de la vie quotidienne dans l’Unité.  Unité en soi-même, et avec t
 ous les êtres…  Simplement percevoir par la méditation,  pas aprè
 s pas,  respiration après respiration,  que l’existence est simple 
  dans l’expérience de « Ici/Maintenant ».  L’expérience du Zen
 .\n75€\nRenseignements et contact:\nhttp://mediter.e-monsite.com/pag
 es/calendrier-des-stages-1.html\n06 77 99 62 72\n\nPour plus d'informa
 tion, aller sur https://epanews.fr/events/retraite-de-m-ditation-zen-s
 esshin-d-hiver
DTSTART;TZID=Europe/Paris:20130308T183000
DTEND;TZID=Europe/Paris:20130310T150000
CATEGORIES:16, 33, 17, 40, 24
LOCATION:Zenergym
WEBSITE:http://mediter.e-monsite.com/pages/calendrier-des-stages-1.htm
 l
URL:http://mediter.e-monsite.com/pages/calendrier-des-stages-1.html
CONTACT:06 77 99 62 72
ORGANIZER;CN="Denis Zenergym":https://epanews.fr/profile/DenisZenergym
ATTACH;FMTTYPE="image/jpeg":http://storage.ning.com/topology/rest/1.0/
 file/get/1662733832?profile=original
ATTENDEE;ROLE=REQ-PARTICIPANT;PARTSTAT=ACCEPTED;RSVP=TRUE;CN="Denis Ze
 nergym":https://epanews.fr/profile/DenisZenergym
ATTENDEE;ROLE=REQ-PARTICIPANT;PARTSTAT=TENTATIVE;RSVP=TRUE;CN=maureen:
 https://epanews.fr/profile/maureen
END:VEVENT
END:VCALENDAR
