BEGIN:VCALENDAR
PRODID:NingEventWidget-v1
VERSION:2.0
METHOD:PUBLISH
BEGIN:VTIMEZONE
TZID:Europe/Paris
X-LIC-LOCATION:Europe/Paris
BEGIN:DAYLIGHT
TZOFFSETFROM:+0100
TZOFFSETTO:+0200
TZNAME:CEST
DTSTART:19700329T020000
RRULE:FREQ=YEARLY;BYMONTH=3;BYDAY=-1SU
END:DAYLIGHT
BEGIN:STANDARD
TZOFFSETFROM:+0200
TZOFFSETTO:+0100
TZNAME:CET
DTSTART:19701025T030000
RRULE:FREQ=YEARLY;BYMONTH=10;BYDAY=-1SU
END:STANDARD
END:VTIMEZONE
BEGIN:VEVENT
UID:2485226:Event:1868684
DTSTAMP:20260422T080807Z
SUMMARY:Retraite de méditation : \"Zen et pleine conscience\"
DESCRIPTION:\"Sesshin zen\" en campagne charentaise, le dernier w-e d'
 avril.\nPour seulement 75€ (tout compris, nuits, pension complète, 
 activités) + une petite participation en apportant quelques denrées 
 alimentaires qui seront cuisinées ensembles.\nIl reste des places.\nC
 ontact et inscription.\nPresentation Sesshin Printemps 202014.pdf\n\n\
 nPour plus d'information, aller sur https://epanews.fr/events/retraite
 -de-m-ditation-zen-et-pleine-conscience
DTSTART;TZID=Europe/Paris:20140425T173000
DTEND;TZID=Europe/Paris:20140427T150000
CATEGORIES:33
LOCATION:Zenergym
WEBSITE:http://goo.gl/maps/KzYo9
URL:http://goo.gl/maps/KzYo9
CONTACT:0677996272
ORGANIZER;CN="Denis Zenergym":https://epanews.fr/profile/DenisZenergym
ATTACH;FMTTYPE="image/jpeg":http://storage.ning.com/topology/rest/1.0/
 file/get/1663111434?profile=original
ATTENDEE;ROLE=REQ-PARTICIPANT;PARTSTAT=ACCEPTED;RSVP=TRUE;CN="Denis Ze
 nergym":https://epanews.fr/profile/DenisZenergym
END:VEVENT
END:VCALENDAR
