BEGIN:VCALENDAR
PRODID:NingEventWidget-v1
VERSION:2.0
METHOD:PUBLISH
BEGIN:VTIMEZONE
TZID:Europe/Paris
X-LIC-LOCATION:Europe/Paris
BEGIN:DAYLIGHT
TZOFFSETFROM:+0100
TZOFFSETTO:+0200
TZNAME:CEST
DTSTART:19700329T020000
RRULE:FREQ=YEARLY;BYMONTH=3;BYDAY=-1SU
END:DAYLIGHT
BEGIN:STANDARD
TZOFFSETFROM:+0200
TZOFFSETTO:+0100
TZNAME:CET
DTSTART:19701025T030000
RRULE:FREQ=YEARLY;BYMONTH=10;BYDAY=-1SU
END:STANDARD
END:VTIMEZONE
BEGIN:VEVENT
UID:2485226:Event:1824216
DTSTAMP:20260422T031528Z
SUMMARY:Retraite d'amour Voyage Nomade dans le Sahara
DESCRIPTION:.\n\nBonjour à tous,\nC'est à nouveau avec une grande jo
 ie, et toujours le soleil du désert dans mon cœur, que je vous invit
 e à vivre une sacrée aventure, un Voyage Nomade ! Le dernier voyage
  fin octobre début novembre fut vraiment magique ! Merci à tous pou
 r cette co-création délicieuse hors du temps.  Ici, ils disent « 
 Vous avez les montres, nous avons le temps… »\nUne retraite d'amou
 r et de paix vous attend dans ce lieu privilégié avec la terre mèr
 e du Sahara, où se révèle la véritable beauté de notre essence.\n
 Tout en douceur, au rythme de la vie marocaine et de la caravane nomad
 e, nous entrerons dans notre espace intime de silence et de création
 .Nos vibrations communes et individuelles nous amèneront dans la co-c
 réation consciente.\nJe vous invite à un voyage où les mots : sér
 énité, authenticité, harmonie, liberté seront nos guides.\nNous c
 ontacterons notre douce puissance d'homme et de femme et accueillerons
  notre véritable dimension. Nous marcherons chacun(e) dans nos propre
 s pas et ensemble nous nous unirons pour célébrer la danse joyeuse d
 e la vie qui s'écoule en nous...\n\nJ'ai choisi un circuit depuis Oua
 rzazate \"La porte du désert, la ville sans bruit\".Nous descendrons 
 par étape le long de la vallée du Drâa qui nous conduira au désert
  de Mhamid. Le stage commencera le 20 Avril (arrivée la veille) et s
 e terminera le 29 Avril (retour le 30). En arrivant à Ouarzazate nous
  irons au hammam et nous recevrons un massage pour lâcher et nous met
 tre dans l’ambiance…\nDans chaque journée il y aura des temps de 
 stage et de découverte, des visites pour les deux premiers jours le 
 long de la vallée, puis des temps de marche chaque matin dans le dés
 ert.\nLes temps de stage seront l'après midi et en soirée autour du 
 feu, après le coucher de soleil  dans la grâce du présent si inten
 se ...\nNous passerons six jours complets dans le désert.voir suite d
 ans le site .merci Vous trouverez les tarifs sur la feuille de route.
 \nJe suis en ce moment au USA en Californie, le mieux pour me joindre 
 est par email \nvous pouvez contacter Michelle coordinatrice pour le 
 voyage, merci\nMichelle \nmi.verdaguer@laposte.net> 06 44 82 00 76> 0
 5 34 63 58 61\n22cecile.m@gmail.com   mon tel  00 336 38 81 73 44 
 \n                www.el-aima.com            
                   www.mhamidvoyages.com        \
 n\n\nPour plus d'information, aller sur https://epanews.fr/events/retr
 aite-d-amour-voyage-nomade-dans-le-sahara
DTSTART;TZID=Europe/Paris:20140419T180000
DTEND;TZID=Europe/Paris:20140429T190000
CATEGORIES:82
LOCATION:Maroc
WEBSITE:
URL:
CONTACT:
ORGANIZER;CN=Myriam:https://epanews.fr/profile/Myriam203
ATTACH;FMTTYPE="image/jpeg":http://storage.ning.com/topology/rest/1.0/
 file/get/1663088366?profile=original
ATTENDEE;ROLE=REQ-PARTICIPANT;PARTSTAT=ACCEPTED;RSVP=TRUE;CN=Myriam:ht
 tps://epanews.fr/profile/Myriam203
END:VEVENT
END:VCALENDAR
