BEGIN:VCALENDAR
PRODID:NingEventWidget-v1
VERSION:2.0
METHOD:PUBLISH
BEGIN:VTIMEZONE
TZID:Europe/Paris
X-LIC-LOCATION:Europe/Paris
BEGIN:DAYLIGHT
TZOFFSETFROM:+0100
TZOFFSETTO:+0200
TZNAME:CEST
DTSTART:19700329T020000
RRULE:FREQ=YEARLY;BYMONTH=3;BYDAY=-1SU
END:DAYLIGHT
BEGIN:STANDARD
TZOFFSETFROM:+0200
TZOFFSETTO:+0100
TZNAME:CET
DTSTART:19701025T030000
RRULE:FREQ=YEARLY;BYMONTH=10;BYDAY=-1SU
END:STANDARD
END:VTIMEZONE
BEGIN:VEVENT
UID:2485226:Event:1852498
DTSTAMP:20260422T032903Z
SUMMARY:retraite d'amour voyage nomade dans le sahara
DESCRIPTION:.\n\nBonjour Ã  tous,\nC'est Ã  nouveau avec une grande jo
 ie, et toujours le soleil du dÃ©sert dans mon cÅ“ur, que je vous invit
 e Ã  vivre une sacrÃ©e aventure, un Voyage Nomade !Â Le dernier voyage
  fin octobre dÃ©but novembre fut vraiment magiqueÂ ! Merci Ã  tous pou
 r cette co-crÃ©ation dÃ©licieuse hors du temps.Â  Ici, ils disent Â«Â 
 Vous avez les montres, nous avons le tempsâ€¦Â Â»\nUne retraite d'amou
 r et de paix vous attendÂ dans ce lieu privilÃ©giÃ© avec la terre mÃ¨r
 e du Sahara, oÃ¹ se rÃ©vÃ¨le la vÃ©ritable beautÃ© de notre essence.\n
 Tout en douceur, au rythme de la vie marocaine et de la caravane nomad
 e, nous entreronsÂ dans notre espace intime de silence et de crÃ©ation
 . Nos vibrations communes et individuelles nous amÃ¨neront dans la co-
 crÃ©ation consciente.\nJe vous invite Ã  un voyage oÃ¹ les mots :Â sÃ©
 rÃ©nitÃ©, authenticitÃ©, harmonie, libertÃ© serontÂ nos guides.\nNous 
 contacterons notre douce puissance d'homme et de femme et accueilleron
 s notre vÃ©ritable dimension. Nous marcherons chacun(e) dans nos propr
 es pas et ensemble nous nous unirons pour cÃ©lÃ©brer la danse joyeuse 
 de la vie qui s'Ã©coule en nous...\n\nJ'ai choisi un circuit depuis Ou
 arzazate \"La porte du dÃ©sert, la ville sans bruit\". Nous descendron
 s par Ã©tape le long de la vallÃ©e du DrÃ¢a qui nous conduira au dÃ©se
 rtÂ de Mhamid. Le stage commencera le 20 Avril (arrivÃ©e la veille) et
  se terminera le 29 Avril (retour le 30). En arrivant Ã  Ouarzazate no
 us irons au hammam et nous recevrons un massage pour lÃ¢cher et nous m
 ettre dans lâ€™ambianceâ€¦\nDans chaque journÃ©e il y aura des temps d
 e stage et de dÃ©couverte, des visites pour les deux premiers joursÂ l
 e long de la vallÃ©e, puis des temps de marche chaque matin dans le dÃ
 ©sert.\nLes temps de stage seront l'aprÃ¨s midi et en soirÃ©e autour d
 u feu, aprÃ¨s le coucher de soleilÂ  dans la grÃ¢ce du prÃ©sent si int
 ense ...\nNous passerons six jours complets dans le dÃ©sert.voir suite
  dans le site .merciÂ Vous trouverez les tarifs sur la feuille de rout
 e.\nJe suis en ce moment au USA en Californie, le mieux pour me joindr
 e est par emailÂ \nvous pouvez contacter Michelle coordinatrice pour l
 e voyage, merci\nMichelleÂ \nmi.verdaguer@laposte.net > 06 44 82 00 76
  > 05 34 63 58 61\n22cecile.m@gmail.comÂ Â  mon tel Â 00 336 38 81 73 
 44Â \nÂ Â Â Â Â Â Â Â Â Â Â Â Â Â Â Â www.el-aima.comÂ  Â  Â  Â Â Â Â 
 Â Â Â Â Â Â Â Â Â Â Â Â Â  Â Â Â Â Â Â www.mhamidvoyages.comÂ  Â  Â  Â
  Â \n\n\nPour plus d'information, aller sur https://epanews.fr/events/
 retraite-d-amour-voyage-nomade-dans-le-sahara-1
DTSTART;TZID=Europe/Paris:20140419T180000
DTEND;TZID=Europe/Paris:20140429T190000
CATEGORIES:82
LOCATION:Maroc
WEBSITE:
URL:
CONTACT:
ORGANIZER;CN=Myriam:https://epanews.fr/profile/Myriam203
ATTACH;FMTTYPE="image/jpeg":http://storage.ning.com/topology/rest/1.0/
 file/get/1663088366?profile=original
ATTENDEE;ROLE=REQ-PARTICIPANT;PARTSTAT=ACCEPTED;RSVP=TRUE;CN=Myriam:ht
 tps://epanews.fr/profile/Myriam203
END:VEVENT
END:VCALENDAR
