BEGIN:VCALENDAR
PRODID:NingEventWidget-v1
VERSION:2.0
METHOD:PUBLISH
BEGIN:VTIMEZONE
TZID:Europe/Paris
X-LIC-LOCATION:Europe/Paris
BEGIN:DAYLIGHT
TZOFFSETFROM:+0100
TZOFFSETTO:+0200
TZNAME:CEST
DTSTART:19700329T020000
RRULE:FREQ=YEARLY;BYMONTH=3;BYDAY=-1SU
END:DAYLIGHT
BEGIN:STANDARD
TZOFFSETFROM:+0200
TZOFFSETTO:+0100
TZNAME:CET
DTSTART:19701025T030000
RRULE:FREQ=YEARLY;BYMONTH=10;BYDAY=-1SU
END:STANDARD
END:VTIMEZONE
BEGIN:VEVENT
UID:2485226:Event:54414
DTSTAMP:20260420T021607Z
SUMMARY:« Retisser les liens avec la Nature et notre dimension sacré
 e »
DESCRIPTION:Avec Liliane van der Velde\n30 avril: découverte nature c
 onscience, massif de la Sainte Victoire\nConstellations chamaniques, r
 etrouver le lien avec son âme\n\nPour plus d'information, aller sur h
 ttps://epanews.fr/events/retisser-les-liens-avec-la
DTSTART;TZID=Europe/Paris:20100430T000000
DTEND;TZID=Europe/Paris:20100430T235900
CATEGORIES:00
LOCATION:MASSIF DE LA SAINTE VICTOIRE
WEBSITE:
URL:
CONTACT:
ORGANIZER;CN="liliane van der Velde":https://epanews.fr/profile/lilian
 evanderVelde
ATTACH;FMTTYPE="image/jpeg":
ATTENDEE;ROLE=REQ-PARTICIPANT;PARTSTAT=ACCEPTED;RSVP=TRUE;CN="liliane 
 van der Velde":https://epanews.fr/profile/lilianevanderVelde
END:VEVENT
END:VCALENDAR
