BEGIN:VCALENDAR
PRODID:NingEventWidget-v1
VERSION:2.0
METHOD:PUBLISH
BEGIN:VTIMEZONE
TZID:Europe/Paris
X-LIC-LOCATION:Europe/Paris
BEGIN:DAYLIGHT
TZOFFSETFROM:+0100
TZOFFSETTO:+0200
TZNAME:CEST
DTSTART:19700329T020000
RRULE:FREQ=YEARLY;BYMONTH=3;BYDAY=-1SU
END:DAYLIGHT
BEGIN:STANDARD
TZOFFSETFROM:+0200
TZOFFSETTO:+0100
TZNAME:CET
DTSTART:19701025T030000
RRULE:FREQ=YEARLY;BYMONTH=10;BYDAY=-1SU
END:STANDARD
END:VTIMEZONE
BEGIN:VEVENT
UID:2485226:Event:2111163
DTSTAMP:20260425T192129Z
SUMMARY:Respiration Holotropique - facilitatrice certifiée Stan Grof
DESCRIPTION:Toujours d'actualité à Rougiers 83170 , en séance indiv
 iduelle ou micro-groupes (max 6 part.) sur RdV : Auto-exploration de l
 a conscience par la Respiration et la musique selon la pratique origin
 ale de Stan Grof.\nEvènement Week-end en résidentiel \"Respiration H
 olotropique et méditation\" proche de Paris, les 12 (soir), 13 et 14 
 décembre 2014. Plus d'infos sur holotropique.blogspot.com\n\nPour plu
 s d'information, aller sur https://epanews.fr/events/respiration-holot
 ropique-facilitatrice-certifi-e-stan-grof
DTSTART;TZID=Europe/Paris:20141212T180000
DTEND;TZID=Europe/Paris:20141214T140000
CATEGORIES:77
LOCATION:Gretz-Armainvilliers, RER E ou 30km Est de Paris
WEBSITE:http://florenceprudhon.blogspot.com
URL:http://florenceprudhon.blogspot.com
CONTACT:0608455492
ORGANIZER;CN=florence:https://epanews.fr/profile/florence701
ATTACH;FMTTYPE="image/jpeg":http://storage.ning.com/topology/rest/1.0/
 file/get/1663246012?profile=original
ATTENDEE;ROLE=REQ-PARTICIPANT;PARTSTAT=ACCEPTED;RSVP=TRUE;CN=florence:
 https://epanews.fr/profile/florence701
END:VEVENT
END:VCALENDAR
