BEGIN:VCALENDAR
PRODID:NingEventWidget-v1
VERSION:2.0
METHOD:PUBLISH
BEGIN:VTIMEZONE
TZID:Europe/Paris
X-LIC-LOCATION:Europe/Paris
BEGIN:DAYLIGHT
TZOFFSETFROM:+0100
TZOFFSETTO:+0200
TZNAME:CEST
DTSTART:19700329T020000
RRULE:FREQ=YEARLY;BYMONTH=3;BYDAY=-1SU
END:DAYLIGHT
BEGIN:STANDARD
TZOFFSETFROM:+0200
TZOFFSETTO:+0100
TZNAME:CET
DTSTART:19701025T030000
RRULE:FREQ=YEARLY;BYMONTH=10;BYDAY=-1SU
END:STANDARD
END:VTIMEZONE
BEGIN:VEVENT
UID:2485226:Event:1342651
DTSTAMP:20260423T045621Z
SUMMARY:Repas animÃ©, dansant au profit de l'association Thera Wanka
DESCRIPTION:Cette association a pour but :\n\nLâ€™accueil des personne
 s isolÃ©es (quelle quâ€™en soit la cause)\nLâ€™accompagnement de perso
 nnes ayant vÃ©cu ou vivant une maladie, ainsi que de leur entourage,\n
 Lâ€™information et lâ€™aide des personnes atteintes de SRDC.\n\nÂ Repa
 s 25â‚¬ dont 10â‚¬ seront reversÃ©s Ã  lâ€™association\nMenu: salade e
 xotique, poulet coco, dessert, vin + cafÃ© compris\net aprÃ¨s soirÃ©eÂ
   dansante Ã  partir de 22h30 (tarif :12â‚¬ pour ceux qui nâ€™ont pas 
 participÃ© au repas avec 1 cadeau)\nÂ \nNombre de places limitÃ©es\nRÃ
 ©servation au 06 36 92 51 00 avant le 5 Juin 2013\n New Tropicana CafÃ
 © 6 Ter Rue Paul Eluard 26800 Portes-lÃ¨s-Valence\nÂ \n\nPour plus d'i
 nformation, aller sur https://epanews.fr/events/repas-anim-dansant-au-
 profit-de-l-association-thera-wanka
DTSTART;TZID=Europe/Paris:20130607T203000
DTEND;TZID=Europe/Paris:20130608T170000
CATEGORIES:26
LOCATION:Portes Les Valence
WEBSITE:
URL:
CONTACT:06 36 92 51 00
ORGANIZER;CN=Titou:https://epanews.fr/profile/Titou267
ATTACH;FMTTYPE="image/jpeg":
ATTENDEE;ROLE=REQ-PARTICIPANT;PARTSTAT=ACCEPTED;RSVP=TRUE;CN=Titou:htt
 ps://epanews.fr/profile/Titou267
END:VEVENT
END:VCALENDAR
