BEGIN:VCALENDAR
PRODID:NingEventWidget-v1
VERSION:2.0
METHOD:PUBLISH
BEGIN:VTIMEZONE
TZID:Europe/Paris
X-LIC-LOCATION:Europe/Paris
BEGIN:DAYLIGHT
TZOFFSETFROM:+0100
TZOFFSETTO:+0200
TZNAME:CEST
DTSTART:19700329T020000
RRULE:FREQ=YEARLY;BYMONTH=3;BYDAY=-1SU
END:DAYLIGHT
BEGIN:STANDARD
TZOFFSETFROM:+0200
TZOFFSETTO:+0100
TZNAME:CET
DTSTART:19701025T030000
RRULE:FREQ=YEARLY;BYMONTH=10;BYDAY=-1SU
END:STANDARD
END:VTIMEZONE
BEGIN:VEVENT
UID:2485226:Event:2344572
DTSTAMP:20260425T001333Z
SUMMARY:Vous êtres super !
DESCRIPTION:Nous voulions poursuivre l'action de ce jeune formidable.\
 nVoir la vidéo ici http://epanews.fr/xn/detail/2485226%3ABlogPost%3A2
 338835\nNous vous donnons rendez-vous sur le Marché de St Aubin.\nVou
 s êtes formidables\nAssociation Terre d'Omhe\n\n\nPour plus d'informa
 tion, aller sur https://epanews.fr/events/rendez-vous-toulouse
DTSTART;TZID=Europe/Paris:20150614T100000
DTEND;TZID=Europe/Paris:20150614T130000
CATEGORIES:31
LOCATION:Marché de St Aubin
WEBSITE:
URL:
CONTACT:06 83 16 80 50
ORGANIZER:Terre D'Omhe
ATTACH;FMTTYPE="image/jpeg":http://storage.ning.com/topology/rest/1.0/
 file/get/1663410009?profile=original
ATTENDEE;ROLE=REQ-PARTICIPANT;PARTSTAT=ACCEPTED;RSVP=TRUE;CN="Mireille
  Housset":https://epanews.fr/profile/Mireille630
END:VEVENT
END:VCALENDAR
