BEGIN:VCALENDAR
PRODID:NingEventWidget-v1
VERSION:2.0
METHOD:PUBLISH
BEGIN:VTIMEZONE
TZID:Europe/Paris
X-LIC-LOCATION:Europe/Paris
BEGIN:DAYLIGHT
TZOFFSETFROM:+0100
TZOFFSETTO:+0200
TZNAME:CEST
DTSTART:19700329T020000
RRULE:FREQ=YEARLY;BYMONTH=3;BYDAY=-1SU
END:DAYLIGHT
BEGIN:STANDARD
TZOFFSETFROM:+0200
TZOFFSETTO:+0100
TZNAME:CET
DTSTART:19701025T030000
RRULE:FREQ=YEARLY;BYMONTH=10;BYDAY=-1SU
END:STANDARD
END:VTIMEZONE
BEGIN:VEVENT
UID:2485226:Event:2437283
DTSTAMP:20260420T205804Z
SUMMARY:rencontres holistiques
DESCRIPTION:Vous avez besoin d'un week end hors du temps et de l'espac
 e: massage, méditation, pleine conscience, temps de paroles, marche e
 n pleine nature, chataîgnes, cheminée, et toute vos propositions\nPa
 rticipation sur la base des accords toltèques: parole impeccable, pas
  d e supposition ni de jugements, je fais de mon mieux...\nChacun appo
 rte un plat pour 6, légumes, fruits, graines et son petit dej\nDuvet 
 , zafu, kit de massage, bougies, encens et votre bonne humeur ....\nLi
 eu en ardèche dans un  gite en plein coeur du parc des monts d'ardè
 che 40 km de valence \ndébut vendredi 18  fin dimanche 17h\ncout 35
 € la nuit / personne\n\nPour plus d'information, aller sur https://e
 panews.fr/events/rencontres-holistiques-2
DTSTART;TZID=Europe/Paris:20151113T180000
DTEND;TZID=Europe/Paris:20151115T170000
CATEGORIES:69, 07, 26, 74
LOCATION:saint julien labrousse
WEBSITE:http://legrandbouveron.com
URL:http://legrandbouveron.com
CONTACT:0680918579
ORGANIZER;CN=laksmi07:https://epanews.fr/profile/laksmi07
ATTACH;FMTTYPE="image/jpeg":http://storage.ning.com/topology/rest/1.0/
 file/get/1663458678?profile=original
ATTENDEE;ROLE=REQ-PARTICIPANT;PARTSTAT=ACCEPTED;RSVP=TRUE;CN=laksmi07:
 https://epanews.fr/profile/laksmi07
END:VEVENT
END:VCALENDAR
